Workbook

Sheet Payment Inward
A2: PAYMENT RECEIVED FROM UMAIR SB | E2: PAYMENT RECEIVED FROM FAISAL SB
A4: TOTAL AMOUNT RECEIVED | C4: =SUM(C7:C1048576) -> 1585000 | E4: TOTAL AMOUNT RECEIVED | G4: =SUM(G7:G1048576) -> 3025000
C5: 1001 | G5: 1002
A6: DATE | B6: DESCRIPTION | C6: AMOUNT | E6: DATE | F6: DESCRIPTION | G6: AMOUNT
A7: =IFERROR(VLOOKUP($C$5,Ledger!C7:K7,2,0),"-") -> - | B7: =IFERROR(VLOOKUP($C$5,Ledger!C7:K7,3,0),"-") -> - | C7: =IFERROR(VLOOKUP($C$5,Ledger!C7:K7,8,0),"-") -> - | E7: =IFERROR(VLOOKUP($G$5,Ledger!C7:K7,2,0),"-") -> - | F7: =IFERROR(VLOOKUP($G$5,Ledger!C7:K7,3,0),"-") -> - | G7: =IFERROR(VLOOKUP($G$5,Ledger!C7:K7,8,0),"-") -> -
A8: =IFERROR(VLOOKUP($C$5,Ledger!C8:K8,2,0),"-") -> - | B8: =IFERROR(VLOOKUP($C$5,Ledger!C8:K8,3,0),"-") -> - | C8: =IFERROR(VLOOKUP($C$5,Ledger!C8:K8,8,0),"-") -> - | E8: =IFERROR(VLOOKUP($G$5,Ledger!C8:K8,2,0),"-") -> - | F8: =IFERROR(VLOOKUP($G$5,Ledger!C8:K8,3,0),"-") -> - | G8: =IFERROR(VLOOKUP($G$5,Ledger!C8:K8,8,0),"-") -> -
A9: =IFERROR(VLOOKUP($C$5,Ledger!C9:K9,2,0),"-") -> - | B9: =IFERROR(VLOOKUP($C$5,Ledger!C9:K9,3,0),"-") -> - | C9: =IFERROR(VLOOKUP($C$5,Ledger!C9:K9,8,0),"-") -> - | E9: =IFERROR(VLOOKUP($G$5,Ledger!C9:K9,2,0),"-") -> 45712 | F9: =IFERROR(VLOOKUP($G$5,Ledger!C9:K9,3,0),"-") -> PAYMENT RECEIVED | G9: =IFERROR(VLOOKUP($G$5,Ledger!C9:K9,8,0),"-") -> 500000
A10: =IFERROR(VLOOKUP($C$5,Ledger!C10:K10,2,0),"-") -> - | B10: =IFERROR(VLOOKUP($C$5,Ledger!C10:K10,3,0),"-") -> - | C10: =IFERROR(VLOOKUP($C$5,Ledger!C10:K10,8,0),"-") -> - | E10: =IFERROR(VLOOKUP($G$5,Ledger!C10:K10,2,0),"-") -> - | F10: =IFERROR(VLOOKUP($G$5,Ledger!C10:K10,3,0),"-") -> - | G10: =IFERROR(VLOOKUP($G$5,Ledger!C10:K10,8,0),"-") -> -
A11: =IFERROR(VLOOKUP($C$5,Ledger!C11:K11,2,0),"-") -> - | B11: =IFERROR(VLOOKUP($C$5,Ledger!C11:K11,3,0),"-") -> - | C11: =IFERROR(VLOOKUP($C$5,Ledger!C11:K11,8,0),"-") -> - | E11: =IFERROR(VLOOKUP($G$5,Ledger!C11:K11,2,0),"-") -> 45713 | F11: =IFERROR(VLOOKUP($G$5,Ledger!C11:K11,3,0),"-") -> PAYMENT RECEIVED AT HOME | G11: =IFERROR(VLOOKUP($G$5,Ledger!C11:K11,8,0),"-") -> 25000
A12: =IFERROR(VLOOKUP($C$5,Ledger!C12:K12,2,0),"-") -> - | B12: =IFERROR(VLOOKUP($C$5,Ledger!C12:K12,3,0),"-") -> - | C12: =IFERROR(VLOOKUP($C$5,Ledger!C12:K12,8,0),"-") -> - | E12: =IFERROR(VLOOKUP($G$5,Ledger!C12:K12,2,0),"-") -> - | F12: =IFERROR(VLOOKUP($G$5,Ledger!C12:K12,3,0),"-") -> - | G12: =IFERROR(VLOOKUP($G$5,Ledger!C12:K12,8,0),"-") -> -
A13: =IFERROR(VLOOKUP($C$5,Ledger!C13:K13,2,0),"-") -> 45713 | B13: =IFERROR(VLOOKUP($C$5,Ledger!C13:K13,3,0),"-") -> A | C13: =IFERROR(VLOOKUP($C$5,Ledger!C13:K13,8,0),"-") -> 550000 | E13: =IFERROR(VLOOKUP($G$5,Ledger!C13:K13,2,0),"-") -> - | F13: =IFERROR(VLOOKUP($G$5,Ledger!C13:K13,3,0),"-") -> - | G13: =IFERROR(VLOOKUP($G$5,Ledger!C13:K13,8,0),"-") -> -
A14: =IFERROR(VLOOKUP($C$5,Ledger!C14:K14,2,0),"-") -> - | B14: =IFERROR(VLOOKUP($C$5,Ledger!C14:K14,3,0),"-") -> - | C14: =IFERROR(VLOOKUP($C$5,Ledger!C14:K14,8,0),"-") -> - | E14: =IFERROR(VLOOKUP($G$5,Ledger!C14:K14,2,0),"-") -> - | F14: =IFERROR(VLOOKUP($G$5,Ledger!C14:K14,3,0),"-") -> - | G14: =IFERROR(VLOOKUP($G$5,Ledger!C14:K14,8,0),"-") -> -
A15: =IFERROR(VLOOKUP($C$5,Ledger!C15:K15,2,0),"-") -> 45713 | B15: =IFERROR(VLOOKUP($C$5,Ledger!C15:K15,3,0),"-") -> 0 | C15: =IFERROR(VLOOKUP($C$5,Ledger!C15:K15,8,0),"-") -> 35000 | E15: =IFERROR(VLOOKUP($G$5,Ledger!C15:K15,2,0),"-") -> - | F15: =IFERROR(VLOOKUP($G$5,Ledger!C15:K15,3,0),"-") -> - | G15: =IFERROR(VLOOKUP($G$5,Ledger!C15:K15,8,0),"-") -> -
A16: =IFERROR(VLOOKUP($C$5,Ledger!C16:K16,2,0),"-") -> - | B16: =IFERROR(VLOOKUP($C$5,Ledger!C16:K16,3,0),"-") -> - | C16: =IFERROR(VLOOKUP($C$5,Ledger!C16:K16,8,0),"-") -> - | E16: =IFERROR(VLOOKUP($G$5,Ledger!C16:K16,2,0),"-") -> - | F16: =IFERROR(VLOOKUP($G$5,Ledger!C16:K16,3,0),"-") -> - | G16: =IFERROR(VLOOKUP($G$5,Ledger!C16:K16,8,0),"-") -> -
A17: =IFERROR(VLOOKUP($C$5,Ledger!C17:K17,2,0),"-") -> - | B17: =IFERROR(VLOOKUP($C$5,Ledger!C17:K17,3,0),"-") -> - | C17: =IFERROR(VLOOKUP($C$5,Ledger!C17:K17,8,0),"-") -> - | E17: =IFERROR(VLOOKUP($G$5,Ledger!C17:K17,2,0),"-") -> - | F17: =IFERROR(VLOOKUP($G$5,Ledger!C17:K17,3,0),"-") -> - | G17: =IFERROR(VLOOKUP($G$5,Ledger!C17:K17,8,0),"-") -> -
A18: =IFERROR(VLOOKUP($C$5,Ledger!C18:K18,2,0),"-") -> - | B18: =IFERROR(VLOOKUP($C$5,Ledger!C18:K18,3,0),"-") -> - | C18: =IFERROR(VLOOKUP($C$5,Ledger!C18:K18,8,0),"-") -> - | E18: =IFERROR(VLOOKUP($G$5,Ledger!C18:K18,2,0),"-") -> - | F18: =IFERROR(VLOOKUP($G$5,Ledger!C18:K18,3,0),"-") -> - | G18: =IFERROR(VLOOKUP($G$5,Ledger!C18:K18,8,0),"-") -> -
... A549: =IFERROR(VLOOKUP($C$5,Ledger!C549:K549,2,0),"-") -> - | B549: =IFERROR(VLOOKUP($C$5,Ledger!C549:K549,3,0),"-") -> - | C549: =IFERROR(VLOOKUP($C$5,Ledger!C549:K549,8,0),"-") -> - | E549: =IFERROR(VLOOKUP($G$5,Ledger!C549:K549,2,0),"-") -> - | F549: =IFERROR(VLOOKUP($G$5,Ledger!C549:K549,3,0),"-") -> - | G549: =IFERROR(VLOOKUP($G$5,Ledger!C549:K549,8,0),"-") -> -

Sheet SALES
A2: PAYMENT RECEIVED FROM SALES
A4: TOTAL AMOUNT RECEIVED | F4: =SUM(F7:F1048576) -> 2900000 | G4: =SUM(G7:G1048576) -> 2750000 | H4: =SUM(H7:H1048576) -> 150000
H5: 2001
A6: DATE | B6: DESCRIPTION | C6: UNIT | D6: QUANTITY | E6: RATE | F6: TOTAL AMOUNT | G6: AMOUNT RECEIVED | H6: BALANCE AMOUNT
A7: =IFERROR(VLOOKUP($H$5,Ledger!C7:K7,2,0),"-") -> - | B7: =IFERROR(VLOOKUP($H$5,Ledger!C7:K7,3,0),"-") -> - | C7: =IFERROR(VLOOKUP($H$5,Ledger!C7:K7,4,0),"-") -> - | D7: =IFERROR(VLOOKUP($H$5,Ledger!C7:K7,5,0),"-") -> - | E7: =IFERROR(VLOOKUP($H$5,Ledger!C7:J7,6,0),"-") -> - | F7: =PRODUCT(D7:E7) -> 0 | G7: =IFERROR(VLOOKUP($H$5,Ledger!C7:K7,8,0),"-") -> - | H7: =IFERROR((F7-G7),"-") -> -
A8: =IFERROR(VLOOKUP($H$5,Ledger!C8:K8,2,0),"-") -> - | B8: =IFERROR(VLOOKUP($H$5,Ledger!C8:K8,3,0),"-") -> - | C8: =IFERROR(VLOOKUP($H$5,Ledger!C8:K8,4,0),"-") -> - | D8: =IFERROR(VLOOKUP($H$5,Ledger!C8:K8,5,0),"-") -> - | E8: =IFERROR(VLOOKUP($H$5,Ledger!C8:J8,6,0),"-") -> - | F8: =PRODUCT(D8:E8) -> 0 | G8: =IFERROR(VLOOKUP($H$5,Ledger!C8:K8,8,0),"-") -> - | H8: =IFERROR((F8-G8),"-") -> -
A9: =IFERROR(VLOOKUP($H$5,Ledger!C9:K9,2,0),"-") -> - | B9: =IFERROR(VLOOKUP($H$5,Ledger!C9:K9,3,0),"-") -> - | C9: =IFERROR(VLOOKUP($H$5,Ledger!C9:K9,4,0),"-") -> - | D9: =IFERROR(VLOOKUP($H$5,Ledger!C9:K9,5,0),"-") -> - | E9: =IFERROR(VLOOKUP($H$5,Ledger!C9:J9,6,0),"-") -> - | F9: =PRODUCT(D9:E9) -> 0 | G9: =IFERROR(VLOOKUP($H$5,Ledger!C9:K9,8,0),"-") -> - | H9: =IFERROR((F9-G9),"-") -> -
A10: =IFERROR(VLOOKUP($H$5,Ledger!C10:K10,2,0),"-") -> - | B10: =IFERROR(VLOOKUP($H$5,Ledger!C10:K10,3,0),"-") -> - | C10: =IFERROR(VLOOKUP($H$5,Ledger!C10:K10,4,0),"-") -> - | D10: =IFERROR(VLOOKUP($H$5,Ledger!C10:K10,5,0),"-") -> - | E10: =IFERROR(VLOOKUP($H$5,Ledger!C10:J10,6,0),"-") -> - | F10: =PRODUCT(D10:E10) -> 0 | G10: =IFERROR(VLOOKUP($H$5,Ledger!C10:K10,8,0),"-") -> - | H10: =IFERROR((F10-G10),"-") -> -
A11: =IFERROR(VLOOKUP($H$5,Ledger!C11:K11,2,0),"-") -> - | B11: =IFERROR(VLOOKUP($H$5,Ledger!C11:K11,3,0),"-") -> - | C11: =IFERROR(VLOOKUP($H$5,Ledger!C11:K11,4,0),"-") -> - | D11: =IFERROR(VLOOKUP($H$5,Ledger!C11:K11,5,0),"-") -> - | E11: =IFERROR(VLOOKUP($H$5,Ledger!C11:J11,6,0),"-") -> - | F11: =PRODUCT(D11:E11) -> 0 | G11: =IFERROR(VLOOKUP($H$5,Ledger!C11:K11,8,0),"-") -> - | H11: =IFERROR((F11-G11),"-") -> -
A12: =IFERROR(VLOOKUP($H$5,Ledger!C12:K12,2,0),"-") -> - | B12: =IFERROR(VLOOKUP($H$5,Ledger!C12:K12,3,0),"-") -> - | C12: =IFERROR(VLOOKUP($H$5,Ledger!C12:K12,4,0),"-") -> - | D12: =IFERROR(VLOOKUP($H$5,Ledger!C12:K12,5,0),"-") -> - | E12: =IFERROR(VLOOKUP($H$5,Ledger!C12:J12,6,0),"-") -> - | F12: =PRODUCT(D12:E12) -> 0 | G12: =IFERROR(VLOOKUP($H$5,Ledger!C12:K12,8,0),"-") -> - | H12: =IFERROR((F12-G12),"-") -> -
A13: =IFERROR(VLOOKUP($H$5,Ledger!C13:K13,2,0),"-") -> - | B13: =IFERROR(VLOOKUP($H$5,Ledger!C13:K13,3,0),"-") -> - | C13: =IFERROR(VLOOKUP($H$5,Ledger!C13:K13,4,0),"-") -> - | D13: =IFERROR(VLOOKUP($H$5,Ledger!C13:K13,5,0),"-") -> - | E13: =IFERROR(VLOOKUP($H$5,Ledger!C13:J13,6,0),"-") -> - | F13: =PRODUCT(D13:E13) -> 0 | G13: =IFERROR(VLOOKUP($H$5,Ledger!C13:K13,8,0),"-") -> - | H13: =IFERROR((F13-G13),"-") -> -
A14: =IFERROR(VLOOKUP($H$5,Ledger!C14:K14,2,0),"-") -> - | B14: =IFERROR(VLOOKUP($H$5,Ledger!C14:K14,3,0),"-") -> - | C14: =IFERROR(VLOOKUP($H$5,Ledger!C14:K14,4,0),"-") -> - | D14: =IFERROR(VLOOKUP($H$5,Ledger!C14:K14,5,0),"-") -> - | E14: =IFERROR(VLOOKUP($H$5,Ledger!C14:J14,6,0),"-") -> - | F14: =PRODUCT(D14:E14) -> 0 | G14: =IFERROR(VLOOKUP($H$5,Ledger!C14:K14,8,0),"-") -> - | H14: =IFERROR((F14-G14),"-") -> -
A15: =IFERROR(VLOOKUP($H$5,Ledger!C15:K15,2,0),"-") -> - | B15: =IFERROR(VLOOKUP($H$5,Ledger!C15:K15,3,0),"-") -> - | C15: =IFERROR(VLOOKUP($H$5,Ledger!C15:K15,4,0),"-") -> - | D15: =IFERROR(VLOOKUP($H$5,Ledger!C15:K15,5,0),"-") -> - | E15: =IFERROR(VLOOKUP($H$5,Ledger!C15:J15,6,0),"-") -> - | F15: =PRODUCT(D15:E15) -> 0 | G15: =IFERROR(VLOOKUP($H$5,Ledger!C15:K15,8,0),"-") -> - | H15: =IFERROR((F15-G15),"-") -> -
A16: =IFERROR(VLOOKUP($H$5,Ledger!C16:K16,2,0),"-") -> - | B16: =IFERROR(VLOOKUP($H$5,Ledger!C16:K16,3,0),"-") -> - | C16: =IFERROR(VLOOKUP($H$5,Ledger!C16:K16,4,0),"-") -> - | D16: =IFERROR(VLOOKUP($H$5,Ledger!C16:K16,5,0),"-") -> - | E16: =IFERROR(VLOOKUP($H$5,Ledger!C16:J16,6,0),"-") -> - | F16: =PRODUCT(D16:E16) -> 0 | G16: =IFERROR(VLOOKUP($H$5,Ledger!C16:K16,8,0),"-") -> - | H16: =IFERROR((F16-G16),"-") -> -
A17: =IFERROR(VLOOKUP($H$5,Ledger!C17:K17,2,0),"-") -> 45713 | B17: =IFERROR(VLOOKUP($H$5,Ledger!C17:K17,3,0),"-") -> CHIKEN SALES | C17: =IFERROR(VLOOKUP($H$5,Ledger!C17:K17,4,0),"-") -> KG | D17: =IFERROR(VLOOKUP($H$5,Ledger!C17:K17,5,0),"-") -> 25000 | E17: =IFERROR(VLOOKUP($H$5,Ledger!C17:J17,6,0),"-") -> 100 | F17: =PRODUCT(D17:E17) -> 2500000 | G17: =IFERROR(VLOOKUP($H$5,Ledger!C17:K17,8,0),"-") -> 2400000 | H17: =IFERROR((F17-G17),"-") -> 100000
A18: =IFERROR(VLOOKUP($H$5,Ledger!C18:K18,2,0),"-") -> - | B18: =IFERROR(VLOOKUP($H$5,Ledger!C18:K18,3,0),"-") -> - | C18: =IFERROR(VLOOKUP($H$5,Ledger!C18:K18,4,0),"-") -> - | D18: =IFERROR(VLOOKUP($H$5,Ledger!C18:K18,5,0),"-") -> - | E18: =IFERROR(VLOOKUP($H$5,Ledger!C18:J18,6,0),"-") -> - | F18: =PRODUCT(D18:E18) -> 0 | G18: =IFERROR(VLOOKUP($H$5,Ledger!C18:K18,8,0),"-") -> - | H18: =IFERROR((F18-G18),"-") -> -
... A549: =IFERROR(VLOOKUP($H$5,Ledger!C549:K549,2,0),"-") -> - | B549: =IFERROR(VLOOKUP($H$5,Ledger!C549:K549,3,0),"-") -> - | C549: =IFERROR(VLOOKUP($H$5,Ledger!C549:K549,4,0),"-") -> - | D549: =IFERROR(VLOOKUP($H$5,Ledger!C549:K549,5,0),"-") -> - | E549: =IFERROR(VLOOKUP($H$5,Ledger!C549:J549,6,0),"-") -> - | F549: =PRODUCT(D549:E549) -> 0 | G549: =IFERROR(VLOOKUP($H$5,Ledger!C549:K549,8,0),"-") -> - | H549: =IFERROR((F549-G549),"-") -> -

Sheet UTILITIES
A2: SHED RENT | E2: UTILITY BILLS
B4: TOTAL AMOUNT | C4: =SUM(C7:C1048576) -> 110000 | F4: TOTAL AMOUNT | G4: =SUM(G7:G1048576) -> 143000
C5: 3001 | G5: 3002
A6: DATE | B6: DESCRIPTION | C6: AMOUNT | E6: DATE | F6: DESCRIPTION | G6: AMOUNT
A7: =IFERROR(VLOOKUP($C$5,Ledger!C7:K7,2,0),"-") -> - | B7: =IFERROR(VLOOKUP($C$5,Ledger!C7:K7,3,0),"-") -> - | C7: =IFERROR(VLOOKUP($C$5,Ledger!C7:K7,9,0),"-") -> - | E7: =IFERROR(VLOOKUP($G$5,Ledger!C7:J7,2,0),"-") -> - | F7: =IFERROR(VLOOKUP($G$5,Ledger!C7:K7,3,0),"-") -> - | G7: =IFERROR(VLOOKUP($G$5,Ledger!C7:K7,9,0),"-") -> -
A8: =IFERROR(VLOOKUP($C$5,Ledger!C8:K8,2,0),"-") -> - | B8: =IFERROR(VLOOKUP($C$5,Ledger!C8:K8,3,0),"-") -> - | C8: =IFERROR(VLOOKUP($C$5,Ledger!C8:K8,9,0),"-") -> - | E8: =IFERROR(VLOOKUP($G$5,Ledger!C8:J8,2,0),"-") -> - | F8: =IFERROR(VLOOKUP($G$5,Ledger!C8:K8,3,0),"-") -> - | G8: =IFERROR(VLOOKUP($G$5,Ledger!C8:K8,9,0),"-") -> -
A9: =IFERROR(VLOOKUP($C$5,Ledger!C9:K9,2,0),"-") -> - | B9: =IFERROR(VLOOKUP($C$5,Ledger!C9:K9,3,0),"-") -> - | C9: =IFERROR(VLOOKUP($C$5,Ledger!C9:K9,9,0),"-") -> - | E9: =IFERROR(VLOOKUP($G$5,Ledger!C9:J9,2,0),"-") -> - | F9: =IFERROR(VLOOKUP($G$5,Ledger!C9:K9,3,0),"-") -> - | G9: =IFERROR(VLOOKUP($G$5,Ledger!C9:K9,9,0),"-") -> -
A10: =IFERROR(VLOOKUP($C$5,Ledger!C10:K10,2,0),"-") -> - | B10: =IFERROR(VLOOKUP($C$5,Ledger!C10:K10,3,0),"-") -> - | C10: =IFERROR(VLOOKUP($C$5,Ledger!C10:K10,9,0),"-") -> - | E10: =IFERROR(VLOOKUP($G$5,Ledger!C10:J10,2,0),"-") -> - | F10: =IFERROR(VLOOKUP($G$5,Ledger!C10:K10,3,0),"-") -> - | G10: =IFERROR(VLOOKUP($G$5,Ledger!C10:K10,9,0),"-") -> -
A11: =IFERROR(VLOOKUP($C$5,Ledger!C11:K11,2,0),"-") -> - | B11: =IFERROR(VLOOKUP($C$5,Ledger!C11:K11,3,0),"-") -> - | C11: =IFERROR(VLOOKUP($C$5,Ledger!C11:K11,9,0),"-") -> - | E11: =IFERROR(VLOOKUP($G$5,Ledger!C11:J11,2,0),"-") -> - | F11: =IFERROR(VLOOKUP($G$5,Ledger!C11:K11,3,0),"-") -> - | G11: =IFERROR(VLOOKUP($G$5,Ledger!C11:K11,9,0),"-") -> -
A12: =IFERROR(VLOOKUP($C$5,Ledger!C12:K12,2,0),"-") -> - | B12: =IFERROR(VLOOKUP($C$5,Ledger!C12:K12,3,0),"-") -> - | C12: =IFERROR(VLOOKUP($C$5,Ledger!C12:K12,9,0),"-") -> - | E12: =IFERROR(VLOOKUP($G$5,Ledger!C12:J12,2,0),"-") -> - | F12: =IFERROR(VLOOKUP($G$5,Ledger!C12:K12,3,0),"-") -> - | G12: =IFERROR(VLOOKUP($G$5,Ledger!C12:K12,9,0),"-") -> -
A13: =IFERROR(VLOOKUP($C$5,Ledger!C13:K13,2,0),"-") -> - | B13: =IFERROR(VLOOKUP($C$5,Ledger!C13:K13,3,0),"-") -> - | C13: =IFERROR(VLOOKUP($C$5,Ledger!C13:K13,9,0),"-") -> - | E13: =IFERROR(VLOOKUP($G$5,Ledger!C13:J13,2,0),"-") -> - | F13: =IFERROR(VLOOKUP($G$5,Ledger!C13:K13,3,0),"-") -> - | G13: =IFERROR(VLOOKUP($G$5,Ledger!C13:K13,9,0),"-") -> -
A14: =IFERROR(VLOOKUP($C$5,Ledger!C14:K14,2,0),"-") -> - | B14: =IFERROR(VLOOKUP($C$5,Ledger!C14:K14,3,0),"-") -> - | C14: =IFERROR(VLOOKUP($C$5,Ledger!C14:K14,9,0),"-") -> - | E14: =IFERROR(VLOOKUP($G$5,Ledger!C14:J14,2,0),"-") -> - | F14: =IFERROR(VLOOKUP($G$5,Ledger!C14:K14,3,0),"-") -> - | G14: =IFERROR(VLOOKUP($G$5,Ledger!C14:K14,9,0),"-") -> -
A15: =IFERROR(VLOOKUP($C$5,Ledger!C15:K15,2,0),"-") -> - | B15: =IFERROR(VLOOKUP($C$5,Ledger!C15:K15,3,0),"-") -> - | C15: =IFERROR(VLOOKUP($C$5,Ledger!C15:K15,9,0),"-") -> - | E15: =IFERROR(VLOOKUP($G$5,Ledger!C15:J15,2,0),"-") -> - | F15: =IFERROR(VLOOKUP($G$5,Ledger!C15:K15,3,0),"-") -> - | G15: =IFERROR(VLOOKUP($G$5,Ledger!C15:K15,9,0),"-") -> -
A16: =IFERROR(VLOOKUP($C$5,Ledger!C16:K16,2,0),"-") -> - | B16: =IFERROR(VLOOKUP($C$5,Ledger!C16:K16,3,0),"-") -> - | C16: =IFERROR(VLOOKUP($C$5,Ledger!C16:K16,9,0),"-") -> - | E16: =IFERROR(VLOOKUP($G$5,Ledger!C16:J16,2,0),"-") -> - | F16: =IFERROR(VLOOKUP($G$5,Ledger!C16:K16,3,0),"-") -> - | G16: =IFERROR(VLOOKUP($G$5,Ledger!C16:K16,9,0),"-") -> -
A17: =IFERROR(VLOOKUP($C$5,Ledger!C17:K17,2,0),"-") -> - | B17: =IFERROR(VLOOKUP($C$5,Ledger!C17:K17,3,0),"-") -> - | C17: =IFERROR(VLOOKUP($C$5,Ledger!C17:K17,9,0),"-") -> - | E17: =IFERROR(VLOOKUP($G$5,Ledger!C17:J17,2,0),"-") -> - | F17: =IFERROR(VLOOKUP($G$5,Ledger!C17:K17,3,0),"-") -> - | G17: =IFERROR(VLOOKUP($G$5,Ledger!C17:K17,9,0),"-") -> -
A18: =IFERROR(VLOOKUP($C$5,Ledger!C18:K18,2,0),"-") -> - | B18: =IFERROR(VLOOKUP($C$5,Ledger!C18:K18,3,0),"-") -> - | C18: =IFERROR(VLOOKUP($C$5,Ledger!C18:K18,9,0),"-") -> - | E18: =IFERROR(VLOOKUP($G$5,Ledger!C18:J18,2,0),"-") -> - | F18: =IFERROR(VLOOKUP($G$5,Ledger!C18:K18,3,0),"-") -> - | G18: =IFERROR(VLOOKUP($G$5,Ledger!C18:K18,9,0),"-") -> -
... A549: =IFERROR(VLOOKUP($C$5,Ledger!C549:K549,2,0),"-") -> - | B549: =IFERROR(VLOOKUP($C$5,Ledger!C549:K549,3,0),"-") -> - | C549: =IFERROR(VLOOKUP($C$5,Ledger!C549:K549,9,0),"-") -> - | E549: =IFERROR(VLOOKUP($G$5,Ledger!C549:J549,2,0),"-") -> - | F549: =IFERROR(VLOOKUP($G$5,Ledger!C549:K549,3,0),"-") -> - | G549: =IFERROR(VLOOKUP($G$5,Ledger!C549:K549,9,0),"-") -> -

Sheet STAFF EXPENCES
A2: SUPERVISOR | E2: HELPER-1 | I2: HELPER-2 | M2: HELPER-3 | Q2: HELPER-4 | U2: GUARD | Y2: DOCTOR
A4: ALI | B4: TOTAL AMOUNT | C4: =SUM(C7:C1048576) -> 45000 | E4: SAJID | F4: TOTAL AMOUNT | G4: =SUM(G7:G1048576) -> 10000 | I4: RAFEEQ | J4: TOTAL AMOUNT | K4: =SUM(K7:K1048576) -> 25000 | M4: RASHID | N4: TOTAL AMOUNT | O4: =SUM(O7:O1048576) -> 35000 | Q4: FAHEEM | R4: TOTAL AMOUNT | S4: =SUM(S7:S1048576) -> 38000 | U4: YASIR | V4: TOTAL AMOUNT | W4: =SUM(W7:W1048576) -> 22000 | Y4: TAHIR | Z4: TOTAL AMOUNT | AA4: =SUM(AA7:AA1048576) -> 42000
C5: 4001 | G5: 4002 | K5: 4003 | O5: 4004 | S5: 4005 | W5: 4006 | AA5: 4007
A6: DATE | B6: DESCRIPTION | C6: AMOUNT | E6: DATE | F6: DESCRIPTION | G6: AMOUNT | I6: DATE | J6: DESCRIPTION | K6: AMOUNT | M6: DATE | N6: DESCRIPTION | O6: AMOUNT | Q6: DATE | R6: DESCRIPTION | S6: AMOUNT | U6: DATE | V6: DESCRIPTION | W6: AMOUNT | Y6: DATE | Z6: DESCRIPTION | AA6: AMOUNT
A7: =IFERROR(VLOOKUP($C$5,Ledger!C7:K7,2,0),"-") -> - | B7: =IFERROR(VLOOKUP($C$5,Ledger!C7:K7,3,0),"-") -> - | C7: =IFERROR(VLOOKUP($C$5,Ledger!C7:K7,9,0),"-") -> - | E7: =IFERROR(VLOOKUP($G$5,Ledger!C7:K7,2,0),"-") -> - | F7: =IFERROR(VLOOKUP($G$5,Ledger!C7:K7,3,0),"-") -> - | G7: =IFERROR(VLOOKUP($G$5,Ledger!C7:K7,9,0),"-") -> - | I7: =IFERROR(VLOOKUP($K$5,Ledger!C7:K7,2,0),"-") -> - | J7: =IFERROR(VLOOKUP($K$5,Ledger!C7:K7,3,0),"-") -> - | K7: =IFERROR(VLOOKUP($K$5,Ledger!C7:K7,9,0),"-") -> - | M7: =IFERROR(VLOOKUP($O$5,Ledger!C7:K7,2,0),"-") -> - | N7: =IFERROR(VLOOKUP($O$5,Ledger!C7:K7,3,0),"-") -> - | O7: =IFERROR(VLOOKUP($O$5,Ledger!C7:K7,9,0),"-") -> - | Q7: =IFERROR(VLOOKUP($S$5,Ledger!C7:K7,2,0),"-") -> - | R7: =IFERROR(VLOOKUP($S$5,Ledger!C7:K7,3,0),"-") -> - | S7: =IFERROR(VLOOKUP($S$5,Ledger!C7:K7,9,0),"-") -> - | U7: =IFERROR(VLOOKUP($W$5,Ledger!C7:K7,2,0),"-") -> - | V7: =IFERROR(VLOOKUP($W$5,Ledger!C7:K7,3,0),"-") -> - | W7: =IFERROR(VLOOKUP($W$5,Ledger!C7:K7,9,0),"-") -> - | Y7: =IFERROR(VLOOKUP($AA$5,Ledger!C7:K7,2,0),"-") -> - | Z7: =IFERROR(VLOOKUP($AA$5,Ledger!C7:K7,3,0),"-") -> - | AA7: =IFERROR(VLOOKUP($AA$5,Ledger!C7:K7,9,0),"-") -> -
A8: =IFERROR(VLOOKUP($C$5,Ledger!C8:K8,2,0),"-") -> - | B8: =IFERROR(VLOOKUP($C$5,Ledger!C8:K8,3,0),"-") -> - | C8: =IFERROR(VLOOKUP($C$5,Ledger!C8:K8,9,0),"-") -> - | E8: =IFERROR(VLOOKUP($G$5,Ledger!C8:K8,2,0),"-") -> - | F8: =IFERROR(VLOOKUP($G$5,Ledger!C8:K8,3,0),"-") -> - | G8: =IFERROR(VLOOKUP($G$5,Ledger!C8:K8,9,0),"-") -> - | I8: =IFERROR(VLOOKUP($K$5,Ledger!C8:K8,2,0),"-") -> - | J8: =IFERROR(VLOOKUP($K$5,Ledger!C8:K8,3,0),"-") -> - | K8: =IFERROR(VLOOKUP($K$5,Ledger!C8:K8,9,0),"-") -> - | M8: =IFERROR(VLOOKUP($O$5,Ledger!C8:K8,2,0),"-") -> - | N8: =IFERROR(VLOOKUP($O$5,Ledger!C8:K8,3,0),"-") -> - | O8: =IFERROR(VLOOKUP($O$5,Ledger!C8:K8,9,0),"-") -> - | Q8: =IFERROR(VLOOKUP($S$5,Ledger!C8:K8,2,0),"-") -> - | R8: =IFERROR(VLOOKUP($S$5,Ledger!C8:K8,3,0),"-") -> - | S8: =IFERROR(VLOOKUP($S$5,Ledger!C8:K8,9,0),"-") -> - | U8: =IFERROR(VLOOKUP($W$5,Ledger!C8:K8,2,0),"-") -> - | V8: =IFERROR(VLOOKUP($W$5,Ledger!C8:K8,3,0),"-") -> - | W8: =IFERROR(VLOOKUP($W$5,Ledger!C8:K8,9,0),"-") -> - | Y8: =IFERROR(VLOOKUP($AA$5,Ledger!C8:K8,2,0),"-") -> - | Z8: =IFERROR(VLOOKUP($AA$5,Ledger!C8:K8,3,0),"-") -> - | AA8: =IFERROR(VLOOKUP($AA$5,Ledger!C8:K8,9,0),"-") -> -
A9: =IFERROR(VLOOKUP($C$5,Ledger!C9:K9,2,0),"-") -> - | B9: =IFERROR(VLOOKUP($C$5,Ledger!C9:K9,3,0),"-") -> - | C9: =IFERROR(VLOOKUP($C$5,Ledger!C9:K9,9,0),"-") -> - | E9: =IFERROR(VLOOKUP($G$5,Ledger!C9:K9,2,0),"-") -> - | F9: =IFERROR(VLOOKUP($G$5,Ledger!C9:K9,3,0),"-") -> - | G9: =IFERROR(VLOOKUP($G$5,Ledger!C9:K9,9,0),"-") -> - | I9: =IFERROR(VLOOKUP($K$5,Ledger!C9:K9,2,0),"-") -> - | J9: =IFERROR(VLOOKUP($K$5,Ledger!C9:K9,3,0),"-") -> - | K9: =IFERROR(VLOOKUP($K$5,Ledger!C9:K9,9,0),"-") -> - | M9: =IFERROR(VLOOKUP($O$5,Ledger!C9:K9,2,0),"-") -> - | N9: =IFERROR(VLOOKUP($O$5,Ledger!C9:K9,3,0),"-") -> - | O9: =IFERROR(VLOOKUP($O$5,Ledger!C9:K9,9,0),"-") -> - | Q9: =IFERROR(VLOOKUP($S$5,Ledger!C9:K9,2,0),"-") -> - | R9: =IFERROR(VLOOKUP($S$5,Ledger!C9:K9,3,0),"-") -> - | S9: =IFERROR(VLOOKUP($S$5,Ledger!C9:K9,9,0),"-") -> - | U9: =IFERROR(VLOOKUP($W$5,Ledger!C9:K9,2,0),"-") -> - | V9: =IFERROR(VLOOKUP($W$5,Ledger!C9:K9,3,0),"-") -> - | W9: =IFERROR(VLOOKUP($W$5,Ledger!C9:K9,9,0),"-") -> - | Y9: =IFERROR(VLOOKUP($AA$5,Ledger!C9:K9,2,0),"-") -> - | Z9: =IFERROR(VLOOKUP($AA$5,Ledger!C9:K9,3,0),"-") -> - | AA9: =IFERROR(VLOOKUP($AA$5,Ledger!C9:K9,9,0),"-") -> -
A10: =IFERROR(VLOOKUP($C$5,Ledger!C10:K10,2,0),"-") -> - | B10: =IFERROR(VLOOKUP($C$5,Ledger!C10:K10,3,0),"-") -> - | C10: =IFERROR(VLOOKUP($C$5,Ledger!C10:K10,9,0),"-") -> - | E10: =IFERROR(VLOOKUP($G$5,Ledger!C10:K10,2,0),"-") -> - | F10: =IFERROR(VLOOKUP($G$5,Ledger!C10:K10,3,0),"-") -> - | G10: =IFERROR(VLOOKUP($G$5,Ledger!C10:K10,9,0),"-") -> - | I10: =IFERROR(VLOOKUP($K$5,Ledger!C10:K10,2,0),"-") -> - | J10: =IFERROR(VLOOKUP($K$5,Ledger!C10:K10,3,0),"-") -> - | K10: =IFERROR(VLOOKUP($K$5,Ledger!C10:K10,9,0),"-") -> - | M10: =IFERROR(VLOOKUP($O$5,Ledger!C10:K10,2,0),"-") -> - | N10: =IFERROR(VLOOKUP($O$5,Ledger!C10:K10,3,0),"-") -> - | O10: =IFERROR(VLOOKUP($O$5,Ledger!C10:K10,9,0),"-") -> - | Q10: =IFERROR(VLOOKUP($S$5,Ledger!C10:K10,2,0),"-") -> - | R10: =IFERROR(VLOOKUP($S$5,Ledger!C10:K10,3,0),"-") -> - | S10: =IFERROR(VLOOKUP($S$5,Ledger!C10:K10,9,0),"-") -> - | U10: =IFERROR(VLOOKUP($W$5,Ledger!C10:K10,2,0),"-") -> - | V10: =IFERROR(VLOOKUP($W$5,Ledger!C10:K10,3,0),"-") -> - | W10: =IFERROR(VLOOKUP($W$5,Ledger!C10:K10,9,0),"-") -> - | Y10: =IFERROR(VLOOKUP($AA$5,Ledger!C10:K10,2,0),"-") -> - | Z10: =IFERROR(VLOOKUP($AA$5,Ledger!C10:K10,3,0),"-") -> - | AA10: =IFERROR(VLOOKUP($AA$5,Ledger!C10:K10,9,0),"-") -> -
A11: =IFERROR(VLOOKUP($C$5,Ledger!C11:K11,2,0),"-") -> - | B11: =IFERROR(VLOOKUP($C$5,Ledger!C11:K11,3,0),"-") -> - | C11: =IFERROR(VLOOKUP($C$5,Ledger!C11:K11,9,0),"-") -> - | E11: =IFERROR(VLOOKUP($G$5,Ledger!C11:K11,2,0),"-") -> - | F11: =IFERROR(VLOOKUP($G$5,Ledger!C11:K11,3,0),"-") -> - | G11: =IFERROR(VLOOKUP($G$5,Ledger!C11:K11,9,0),"-") -> - | I11: =IFERROR(VLOOKUP($K$5,Ledger!C11:K11,2,0),"-") -> - | J11: =IFERROR(VLOOKUP($K$5,Ledger!C11:K11,3,0),"-") -> - | K11: =IFERROR(VLOOKUP($K$5,Ledger!C11:K11,9,0),"-") -> - | M11: =IFERROR(VLOOKUP($O$5,Ledger!C11:K11,2,0),"-") -> - | N11: =IFERROR(VLOOKUP($O$5,Ledger!C11:K11,3,0),"-") -> - | O11: =IFERROR(VLOOKUP($O$5,Ledger!C11:K11,9,0),"-") -> - | Q11: =IFERROR(VLOOKUP($S$5,Ledger!C11:K11,2,0),"-") -> - | R11: =IFERROR(VLOOKUP($S$5,Ledger!C11:K11,3,0),"-") -> - | S11: =IFERROR(VLOOKUP($S$5,Ledger!C11:K11,9,0),"-") -> - | U11: =IFERROR(VLOOKUP($W$5,Ledger!C11:K11,2,0),"-") -> - | V11: =IFERROR(VLOOKUP($W$5,Ledger!C11:K11,3,0),"-") -> - | W11: =IFERROR(VLOOKUP($W$5,Ledger!C11:K11,9,0),"-") -> - | Y11: =IFERROR(VLOOKUP($AA$5,Ledger!C11:K11,2,0),"-") -> - | Z11: =IFERROR(VLOOKUP($AA$5,Ledger!C11:K11,3,0),"-") -> - | AA11: =IFERROR(VLOOKUP($AA$5,Ledger!C11:K11,9,0),"-") -> -
A12: =IFERROR(VLOOKUP($C$5,Ledger!C12:K12,2,0),"-") -> - | B12: =IFERROR(VLOOKUP($C$5,Ledger!C12:K12,3,0),"-") -> - | C12: =IFERROR(VLOOKUP($C$5,Ledger!C12:K12,9,0),"-") -> - | E12: =IFERROR(VLOOKUP($G$5,Ledger!C12:K12,2,0),"-") -> - | F12: =IFERROR(VLOOKUP($G$5,Ledger!C12:K12,3,0),"-") -> - | G12: =IFERROR(VLOOKUP($G$5,Ledger!C12:K12,9,0),"-") -> - | I12: =IFERROR(VLOOKUP($K$5,Ledger!C12:K12,2,0),"-") -> - | J12: =IFERROR(VLOOKUP($K$5,Ledger!C12:K12,3,0),"-") -> - | K12: =IFERROR(VLOOKUP($K$5,Ledger!C12:K12,9,0),"-") -> - | M12: =IFERROR(VLOOKUP($O$5,Ledger!C12:K12,2,0),"-") -> - | N12: =IFERROR(VLOOKUP($O$5,Ledger!C12:K12,3,0),"-") -> - | O12: =IFERROR(VLOOKUP($O$5,Ledger!C12:K12,9,0),"-") -> - | Q12: =IFERROR(VLOOKUP($S$5,Ledger!C12:K12,2,0),"-") -> - | R12: =IFERROR(VLOOKUP($S$5,Ledger!C12:K12,3,0),"-") -> - | S12: =IFERROR(VLOOKUP($S$5,Ledger!C12:K12,9,0),"-") -> - | U12: =IFERROR(VLOOKUP($W$5,Ledger!C12:K12,2,0),"-") -> - | V12: =IFERROR(VLOOKUP($W$5,Ledger!C12:K12,3,0),"-") -> - | W12: =IFERROR(VLOOKUP($W$5,Ledger!C12:K12,9,0),"-") -> - | Y12: =IFERROR(VLOOKUP($AA$5,Ledger!C12:K12,2,0),"-") -> - | Z12: =IFERROR(VLOOKUP($AA$5,Ledger!C12:K12,3,0),"-") -> - | AA12: =IFERROR(VLOOKUP($AA$5,Ledger!C12:K12,9,0),"-") -> -
A13: =IFERROR(VLOOKUP($C$5,Ledger!C13:K13,2,0),"-") -> - | B13: =IFERROR(VLOOKUP($C$5,Ledger!C13:K13,3,0),"-") -> - | C13: =IFERROR(VLOOKUP($C$5,Ledger!C13:K13,9,0),"-") -> - | E13: =IFERROR(VLOOKUP($G$5,Ledger!C13:K13,2,0),"-") -> - | F13: =IFERROR(VLOOKUP($G$5,Ledger!C13:K13,3,0),"-") -> - | G13: =IFERROR(VLOOKUP($G$5,Ledger!C13:K13,9,0),"-") -> - | I13: =IFERROR(VLOOKUP($K$5,Ledger!C13:K13,2,0),"-") -> - | J13: =IFERROR(VLOOKUP($K$5,Ledger!C13:K13,3,0),"-") -> - | K13: =IFERROR(VLOOKUP($K$5,Ledger!C13:K13,9,0),"-") -> - | M13: =IFERROR(VLOOKUP($O$5,Ledger!C13:K13,2,0),"-") -> - | N13: =IFERROR(VLOOKUP($O$5,Ledger!C13:K13,3,0),"-") -> - | O13: =IFERROR(VLOOKUP($O$5,Ledger!C13:K13,9,0),"-") -> - | Q13: =IFERROR(VLOOKUP($S$5,Ledger!C13:K13,2,0),"-") -> - | R13: =IFERROR(VLOOKUP($S$5,Ledger!C13:K13,3,0),"-") -> - | S13: =IFERROR(VLOOKUP($S$5,Ledger!C13:K13,9,0),"-") -> - | U13: =IFERROR(VLOOKUP($W$5,Ledger!C13:K13,2,0),"-") -> - | V13: =IFERROR(VLOOKUP($W$5,Ledger!C13:K13,3,0),"-") -> - | W13: =IFERROR(VLOOKUP($W$5,Ledger!C13:K13,9,0),"-") -> - | Y13: =IFERROR(VLOOKUP($AA$5,Ledger!C13:K13,2,0),"-") -> - | Z13: =IFERROR(VLOOKUP($AA$5,Ledger!C13:K13,3,0),"-") -> - | AA13: =IFERROR(VLOOKUP($AA$5,Ledger!C13:K13,9,0),"-") -> -
A14: =IFERROR(VLOOKUP($C$5,Ledger!C14:K14,2,0),"-") -> - | B14: =IFERROR(VLOOKUP($C$5,Ledger!C14:K14,3,0),"-") -> - | C14: =IFERROR(VLOOKUP($C$5,Ledger!C14:K14,9,0),"-") -> - | E14: =IFERROR(VLOOKUP($G$5,Ledger!C14:K14,2,0),"-") -> - | F14: =IFERROR(VLOOKUP($G$5,Ledger!C14:K14,3,0),"-") -> - | G14: =IFERROR(VLOOKUP($G$5,Ledger!C14:K14,9,0),"-") -> - | I14: =IFERROR(VLOOKUP($K$5,Ledger!C14:K14,2,0),"-") -> - | J14: =IFERROR(VLOOKUP($K$5,Ledger!C14:K14,3,0),"-") -> - | K14: =IFERROR(VLOOKUP($K$5,Ledger!C14:K14,9,0),"-") -> - | M14: =IFERROR(VLOOKUP($O$5,Ledger!C14:K14,2,0),"-") -> - | N14: =IFERROR(VLOOKUP($O$5,Ledger!C14:K14,3,0),"-") -> - | O14: =IFERROR(VLOOKUP($O$5,Ledger!C14:K14,9,0),"-") -> - | Q14: =IFERROR(VLOOKUP($S$5,Ledger!C14:K14,2,0),"-") -> - | R14: =IFERROR(VLOOKUP($S$5,Ledger!C14:K14,3,0),"-") -> - | S14: =IFERROR(VLOOKUP($S$5,Ledger!C14:K14,9,0),"-") -> - | U14: =IFERROR(VLOOKUP($W$5,Ledger!C14:K14,2,0),"-") -> - | V14: =IFERROR(VLOOKUP($W$5,Ledger!C14:K14,3,0),"-") -> - | W14: =IFERROR(VLOOKUP($W$5,Ledger!C14:K14,9,0),"-") -> - | Y14: =IFERROR(VLOOKUP($AA$5,Ledger!C14:K14,2,0),"-") -> - | Z14: =IFERROR(VLOOKUP($AA$5,Ledger!C14:K14,3,0),"-") -> - | AA14: =IFERROR(VLOOKUP($AA$5,Ledger!C14:K14,9,0),"-") -> -
A15: =IFERROR(VLOOKUP($C$5,Ledger!C15:K15,2,0),"-") -> - | B15: =IFERROR(VLOOKUP($C$5,Ledger!C15:K15,3,0),"-") -> - | C15: =IFERROR(VLOOKUP($C$5,Ledger!C15:K15,9,0),"-") -> - | E15: =IFERROR(VLOOKUP($G$5,Ledger!C15:K15,2,0),"-") -> - | F15: =IFERROR(VLOOKUP($G$5,Ledger!C15:K15,3,0),"-") -> - | G15: =IFERROR(VLOOKUP($G$5,Ledger!C15:K15,9,0),"-") -> - | I15: =IFERROR(VLOOKUP($K$5,Ledger!C15:K15,2,0),"-") -> - | J15: =IFERROR(VLOOKUP($K$5,Ledger!C15:K15,3,0),"-") -> - | K15: =IFERROR(VLOOKUP($K$5,Ledger!C15:K15,9,0),"-") -> - | M15: =IFERROR(VLOOKUP($O$5,Ledger!C15:K15,2,0),"-") -> - | N15: =IFERROR(VLOOKUP($O$5,Ledger!C15:K15,3,0),"-") -> - | O15: =IFERROR(VLOOKUP($O$5,Ledger!C15:K15,9,0),"-") -> - | Q15: =IFERROR(VLOOKUP($S$5,Ledger!C15:K15,2,0),"-") -> - | R15: =IFERROR(VLOOKUP($S$5,Ledger!C15:K15,3,0),"-") -> - | S15: =IFERROR(VLOOKUP($S$5,Ledger!C15:K15,9,0),"-") -> - | U15: =IFERROR(VLOOKUP($W$5,Ledger!C15:K15,2,0),"-") -> - | V15: =IFERROR(VLOOKUP($W$5,Ledger!C15:K15,3,0),"-") -> - | W15: =IFERROR(VLOOKUP($W$5,Ledger!C15:K15,9,0),"-") -> - | Y15: =IFERROR(VLOOKUP($AA$5,Ledger!C15:K15,2,0),"-") -> - | Z15: =IFERROR(VLOOKUP($AA$5,Ledger!C15:K15,3,0),"-") -> - | AA15: =IFERROR(VLOOKUP($AA$5,Ledger!C15:K15,9,0),"-") -> -
A16: =IFERROR(VLOOKUP($C$5,Ledger!C16:K16,2,0),"-") -> - | B16: =IFERROR(VLOOKUP($C$5,Ledger!C16:K16,3,0),"-") -> - | C16: =IFERROR(VLOOKUP($C$5,Ledger!C16:K16,9,0),"-") -> - | E16: =IFERROR(VLOOKUP($G$5,Ledger!C16:K16,2,0),"-") -> - | F16: =IFERROR(VLOOKUP($G$5,Ledger!C16:K16,3,0),"-") -> - | G16: =IFERROR(VLOOKUP($G$5,Ledger!C16:K16,9,0),"-") -> - | I16: =IFERROR(VLOOKUP($K$5,Ledger!C16:K16,2,0),"-") -> - | J16: =IFERROR(VLOOKUP($K$5,Ledger!C16:K16,3,0),"-") -> - | K16: =IFERROR(VLOOKUP($K$5,Ledger!C16:K16,9,0),"-") -> - | M16: =IFERROR(VLOOKUP($O$5,Ledger!C16:K16,2,0),"-") -> - | N16: =IFERROR(VLOOKUP($O$5,Ledger!C16:K16,3,0),"-") -> - | O16: =IFERROR(VLOOKUP($O$5,Ledger!C16:K16,9,0),"-") -> - | Q16: =IFERROR(VLOOKUP($S$5,Ledger!C16:K16,2,0),"-") -> - | R16: =IFERROR(VLOOKUP($S$5,Ledger!C16:K16,3,0),"-") -> - | S16: =IFERROR(VLOOKUP($S$5,Ledger!C16:K16,9,0),"-") -> - | U16: =IFERROR(VLOOKUP($W$5,Ledger!C16:K16,2,0),"-") -> - | V16: =IFERROR(VLOOKUP($W$5,Ledger!C16:K16,3,0),"-") -> - | W16: =IFERROR(VLOOKUP($W$5,Ledger!C16:K16,9,0),"-") -> - | Y16: =IFERROR(VLOOKUP($AA$5,Ledger!C16:K16,2,0),"-") -> - | Z16: =IFERROR(VLOOKUP($AA$5,Ledger!C16:K16,3,0),"-") -> - | AA16: =IFERROR(VLOOKUP($AA$5,Ledger!C16:K16,9,0),"-") -> -
A17: =IFERROR(VLOOKUP($C$5,Ledger!C17:K17,2,0),"-") -> - | B17: =IFERROR(VLOOKUP($C$5,Ledger!C17:K17,3,0),"-") -> - | C17: =IFERROR(VLOOKUP($C$5,Ledger!C17:K17,9,0),"-") -> - | E17: =IFERROR(VLOOKUP($G$5,Ledger!C17:K17,2,0),"-") -> - | F17: =IFERROR(VLOOKUP($G$5,Ledger!C17:K17,3,0),"-") -> - | G17: =IFERROR(VLOOKUP($G$5,Ledger!C17:K17,9,0),"-") -> - | I17: =IFERROR(VLOOKUP($K$5,Ledger!C17:K17,2,0),"-") -> - | J17: =IFERROR(VLOOKUP($K$5,Ledger!C17:K17,3,0),"-") -> - | K17: =IFERROR(VLOOKUP($K$5,Ledger!C17:K17,9,0),"-") -> - | M17: =IFERROR(VLOOKUP($O$5,Ledger!C17:K17,2,0),"-") -> - | N17: =IFERROR(VLOOKUP($O$5,Ledger!C17:K17,3,0),"-") -> - | O17: =IFERROR(VLOOKUP($O$5,Ledger!C17:K17,9,0),"-") -> - | Q17: =IFERROR(VLOOKUP($S$5,Ledger!C17:K17,2,0),"-") -> - | R17: =IFERROR(VLOOKUP($S$5,Ledger!C17:K17,3,0),"-") -> - | S17: =IFERROR(VLOOKUP($S$5,Ledger!C17:K17,9,0),"-") -> - | U17: =IFERROR(VLOOKUP($W$5,Ledger!C17:K17,2,0),"-") -> - | V17: =IFERROR(VLOOKUP($W$5,Ledger!C17:K17,3,0),"-") -> - | W17: =IFERROR(VLOOKUP($W$5,Ledger!C17:K17,9,0),"-") -> - | Y17: =IFERROR(VLOOKUP($AA$5,Ledger!C17:K17,2,0),"-") -> - | Z17: =IFERROR(VLOOKUP($AA$5,Ledger!C17:K17,3,0),"-") -> - | AA17: =IFERROR(VLOOKUP($AA$5,Ledger!C17:K17,9,0),"-") -> -
A18: =IFERROR(VLOOKUP($C$5,Ledger!C18:K18,2,0),"-") -> - | B18: =IFERROR(VLOOKUP($C$5,Ledger!C18:K18,3,0),"-") -> - | C18: =IFERROR(VLOOKUP($C$5,Ledger!C18:K18,9,0),"-") -> - | E18: =IFERROR(VLOOKUP($G$5,Ledger!C18:K18,2,0),"-") -> - | F18: =IFERROR(VLOOKUP($G$5,Ledger!C18:K18,3,0),"-") -> - | G18: =IFERROR(VLOOKUP($G$5,Ledger!C18:K18,9,0),"-") -> - | I18: =IFERROR(VLOOKUP($K$5,Ledger!C18:K18,2,0),"-") -> - | J18: =IFERROR(VLOOKUP($K$5,Ledger!C18:K18,3,0),"-") -> - | K18: =IFERROR(VLOOKUP($K$5,Ledger!C18:K18,9,0),"-") -> - | M18: =IFERROR(VLOOKUP($O$5,Ledger!C18:K18,2,0),"-") -> - | N18: =IFERROR(VLOOKUP($O$5,Ledger!C18:K18,3,0),"-") -> - | O18: =IFERROR(VLOOKUP($O$5,Ledger!C18:K18,9,0),"-") -> - | Q18: =IFERROR(VLOOKUP($S$5,Ledger!C18:K18,2,0),"-") -> - | R18: =IFERROR(VLOOKUP($S$5,Ledger!C18:K18,3,0),"-") -> - | S18: =IFERROR(VLOOKUP($S$5,Ledger!C18:K18,9,0),"-") -> - | U18: =IFERROR(VLOOKUP($W$5,Ledger!C18:K18,2,0),"-") -> - | V18: =IFERROR(VLOOKUP($W$5,Ledger!C18:K18,3,0),"-") -> - | W18: =IFERROR(VLOOKUP($W$5,Ledger!C18:K18,9,0),"-") -> - | Y18: =IFERROR(VLOOKUP($AA$5,Ledger!C18:K18,2,0),"-") -> - | Z18: =IFERROR(VLOOKUP($AA$5,Ledger!C18:K18,3,0),"-") -> - | AA18: =IFERROR(VLOOKUP($AA$5,Ledger!C18:K18,9,0),"-") -> -
... A549: =IFERROR(VLOOKUP($C$5,Ledger!C549:K549,2,0),"-") -> - | B549: =IFERROR(VLOOKUP($C$5,Ledger!C549:K549,3,0),"-") -> - | C549: =IFERROR(VLOOKUP($C$5,Ledger!C549:K549,9,0),"-") -> - | E549: =IFERROR(VLOOKUP($G$5,Ledger!C549:K549,2,0),"-") -> - | F549: =IFERROR(VLOOKUP($G$5,Ledger!C549:K549,3,0),"-") -> - | G549: =IFERROR(VLOOKUP($G$5,Ledger!C549:K549,9,0),"-") -> - | I549: =IFERROR(VLOOKUP($K$5,Ledger!C549:K549,2,0),"-") -> - | J549: =IFERROR(VLOOKUP($K$5,Ledger!C549:K549,3,0),"-") -> - | K549: =IFERROR(VLOOKUP($K$5,Ledger!C549:K549,9,0),"-") -> - | M549: =IFERROR(VLOOKUP($O$5,Ledger!C549:K549,2,0),"-") -> - | N549: =IFERROR(VLOOKUP($O$5,Ledger!C549:K549,3,0),"-") -> - | O549: =IFERROR(VLOOKUP($O$5,Ledger!C549:K549,9,0),"-") -> - | Q549: =IFERROR(VLOOKUP($S$5,Ledger!C549:K549,2,0),"-") -> - | R549: =IFERROR(VLOOKUP($S$5,Ledger!C549:K549,3,0),"-") -> - | S549: =IFERROR(VLOOKUP($S$5,Ledger!C549:K549,9,0),"-") -> - | U549: =IFERROR(VLOOKUP($W$5,Ledger!C549:K549,2,0),"-") -> - | V549: =IFERROR(VLOOKUP($W$5,Ledger!C549:K549,3,0),"-") -> - | W549: =IFERROR(VLOOKUP($W$5,Ledger!C549:K549,9,0),"-") -> - | Y549: =IFERROR(VLOOKUP($AA$5,Ledger!C549:K549,2,0),"-") -> - | Z549: =IFERROR(VLOOKUP($AA$5,Ledger!C549:K549,3,0),"-") -> - | AA549: =IFERROR(VLOOKUP($AA$5,Ledger!C549:K549,9,0),"-") -> -

Sheet PORCUREMENT
A2: CHICKS | J2: MEDICINE | S2: FEED | AB2: FUEL | AK2: MICS
E4: TOTAL | F4: =SUM(F7:F1048576) -> 2644000 | G4: =SUM(G7:G1048576) -> 2494000 | H4: =SUM(H7:H1048576) -> 150000 | K4: TOTAL AMOUNT | N4: TOTAL | O4: =SUM(O7:O1048576) -> 1575000 | P4: =SUM(P7:P1048576) -> 1575000 | Q4: =SUM(Q7:Q1048576) -> 0 | W4: TOTAL | X4: =SUM(X7:X1048576) -> 4600000 | Y4: =SUM(Y7:Y1048576) -> 2450000 | Z4: =SUM(Z7:Z1048576) -> 2150000 | AF4: TOTAL | AG4: =SUM(AG7:AG1048576) -> 141500 | AH4: =SUM(AH7:AH1048576) -> 139500 | AI4: =SUM(AI7:AI1048576) -> 2000 | AO4: TOTAL | AP4: =SUM(AP7:AP1048576) -> 50000 | AQ4: =SUM(AQ7:AQ1048576) -> 50000 | AR4: =SUM(AR7:AR1048576) -> 0 | AX4: TOTAL | AY4: =SUM(AY7:AY1048576) -> 0 | AZ4: =SUM(AZ7:AZ1048576) -> 0 | BA4: =SUM(BA7:BA1048576) -> 0 | BG4: TOTAL | BH4: =SUM(BH7:BH1048576) -> 0 | BI4: =SUM(BI7:BI1048576) -> 0 | BJ4: =SUM(BJ7:BJ1048576) -> 0
H5: 5001 | Q5: 5002 | Z5: 5003 | AI5: 5004 | AR5: 5005 | BA5: 5006 | BJ5: 5007
A6: DATE | B6: DESCRIPTION | C6: UNIT | D6: QUANTITY | E6: RATE | F6: TOTAL AMOUNT | G6: AMOUNT PAID | H6: BALANCE PAYABLE | J6: DATE | K6: DESCRIPTION | L6: UNIT | M6: QUANTITY | N6: RATE | O6: TOTAL AMOUNT | P6: AMOUNT PAID | Q6: BALANCE PAYABLE | S6: DATE | T6: DESCRIPTION | U6: UNIT | V6: QUANTITY | W6: RATE | X6: TOTAL AMOUNT | Y6: AMOUNT PAID | Z6: BALANCE PAYABLE | AB6: DATE | AC6: DESCRIPTION | AD6: UNIT | AE6: QUANTITY | AF6: RATE | AG6: TOTAL AMOUNT | AH6: AMOUNT PAID | AI6: BALANCE PAYABLE | AK6: DATE | AL6: DESCRIPTION | AM6: UNIT | AN6: QUANTITY | AO6: RATE | AP6: TOTAL AMOUNT | AQ6: AMOUNT PAID | AR6: BALANCE PAYABLE | AT6: DATE | AU6: DESCRIPTION | AV6: UNIT | AW6: QUANTITY | AX6: RATE | AY6: TOTAL AMOUNT | AZ6: AMOUNT PAID | BA6: BALANCE PAYABLE | BC6: DATE | BD6: DESCRIPTION | BE6: UNIT | BF6: QUANTITY | BG6: RATE | BH6: TOTAL AMOUNT | BI6: AMOUNT PAID | BJ6: BALANCE PAYABLE
A7: =IFERROR(VLOOKUP($H$5,Ledger!C7:K7,2,0),"-") -> - | B7: =IFERROR(VLOOKUP($H$5,Ledger!C7:K7,3,0),"-") -> - | C7: =IFERROR(VLOOKUP($H$5,Ledger!C7:K7,4,0),"-") -> - | D7: =IFERROR(VLOOKUP($H$5,Ledger!C7:K7,5,0),"-") -> - | E7: =IFERROR(VLOOKUP($H$5,Ledger!C7:K7,6,0),"-") -> - | F7: =PRODUCT(D7:E7) -> 0 | G7: =IFERROR(VLOOKUP($H$5,Ledger!C7:K7,9,0),"-") -> - | H7: =IFERROR((F7-G7),"-") -> - | J7: =IFERROR(VLOOKUP($Q$5,Ledger!C7:K7,2,0),"-") -> - | K7: =IFERROR(VLOOKUP($Q$5,Ledger!C7:K7,3,0),"-") -> - | L7: =IFERROR(VLOOKUP($Q$5,Ledger!C7:K7,4,0),"-") -> - | M7: =IFERROR(VLOOKUP($Q$5,Ledger!C7:K7,5,0),"-") -> - | N7: =IFERROR(VLOOKUP($Q$5,Ledger!C7:K7,6,0),"-") -> - | O7: =PRODUCT(M7:N7) -> 0 | P7: =IFERROR(VLOOKUP($Q$5,Ledger!C7:K7,9,0),"-") -> - | Q7: =IFERROR((O7-P7),"-") -> - | S7: =IFERROR(VLOOKUP($Z$5,Ledger!C7:K7,2,0),"-") -> 45712 | T7: =IFERROR(VLOOKUP($Z$5,Ledger!C7:K7,3,0),"-") -> FEED | U7: =IFERROR(VLOOKUP($Z$5,Ledger!C7:K7,4,0),"-") -> KG | V7: =IFERROR(VLOOKUP($Z$5,Ledger!C7:K7,5,0),"-") -> 1200 | W7: =IFERROR(VLOOKUP($Z$5,Ledger!C7:K7,6,0),"-") -> 500 | X7: =PRODUCT(V7:W7) -> 600000 | Y7: =IFERROR(VLOOKUP($Z$5,Ledger!C7:K7,9,0),"-") -> 450000 | Z7: =IFERROR((X7-Y7),"-") -> 150000 | AB7: =IFERROR(VLOOKUP($AI$5,Ledger!C7:K7,2,0),"-") -> - | AC7: =IFERROR(VLOOKUP($AI$5,Ledger!C7:K7,3,0),"-") -> - | AD7: =IFERROR(VLOOKUP($AI$5,Ledger!C7:K7,4,0),"-") -> - | AE7: =IFERROR(VLOOKUP($AI$5,Ledger!C7:K7,5,0),"-") -> - | AF7: =IFERROR(VLOOKUP($AI$5,Ledger!C7:K7,6,0),"-") -> - | AG7: =PRODUCT(AE7:AF7) -> 0 | AH7: =IFERROR(VLOOKUP($AI$5,Ledger!C7:K7,9,0),"-") -> - | AI7: =IFERROR((AG7-AH7),"-") -> - | AK7: =IFERROR(VLOOKUP($AR$5,Ledger!C7:K7,2,0),"-") -> - | AL7: =IFERROR(VLOOKUP($AR$5,Ledger!C7:K7,3,0),"-") -> - | AM7: =IFERROR(VLOOKUP($AR$5,Ledger!C7:K7,4,0),"-") -> - | AN7: =IFERROR(VLOOKUP($AR$5,Ledger!C7:K7,5,0),"-") -> - | AO7: =IFERROR(VLOOKUP($AR$5,Ledger!C7:K7,6,0),"-") -> - | AP7: =PRODUCT(AN7:AO7) -> 0 | AQ7: =IFERROR(VLOOKUP($AR$5,Ledger!C7:K7,9,0),"-") -> - | AR7: =IFERROR((AP7-AQ7),"-") -> - | AT7: =IFERROR(VLOOKUP($BA$5,Ledger!C7:K7,2,0),"-") -> - | AU7: =IFERROR(VLOOKUP($BA$5,Ledger!C7:K7,3,0),"-") -> - | AV7: =IFERROR(VLOOKUP($BA$5,Ledger!C7:K7,4,0),"-") -> - | AW7: =IFERROR(VLOOKUP($BA$5,Ledger!C7:K7,5,0),"-") -> - | AX7: =IFERROR(VLOOKUP($BA$5,Ledger!C7:K7,6,0),"-") -> - | AY7: =PRODUCT(AW7:AX7) -> 0 | AZ7: =IFERROR(VLOOKUP($BA$5,Ledger!C7:K7,9,0),"-") -> - | BA7: =IFERROR((AY7-AZ7),"-") -> - | BC7: =IFERROR(VLOOKUP($BJ$5,Ledger!C7:K7,2,0),"-") -> - | BD7: =IFERROR(VLOOKUP($BJ$5,Ledger!C7:K7,3,0),"-") -> - | BE7: =IFERROR(VLOOKUP($BJ$5,Ledger!C7:K7,4,0),"-") -> - | BF7: =IFERROR(VLOOKUP($BJ$5,Ledger!C7:K7,5,0),"-") -> - | BG7: =IFERROR(VLOOKUP($BJ$5,Ledger!C7:K7,6,0),"-") -> - | BH7: =PRODUCT(BF7:BG7) -> 0 | BI7: =IFERROR(VLOOKUP($BJ$5,Ledger!C7:K7,9,0),"-") -> - | BJ7: =IFERROR((BH7-BI7),"-") -> -
A8: =IFERROR(VLOOKUP($H$5,Ledger!C8:K8,2,0),"-") -> - | B8: =IFERROR(VLOOKUP($H$5,Ledger!C8:K8,3,0),"-") -> - | C8: =IFERROR(VLOOKUP($H$5,Ledger!C8:K8,4,0),"-") -> - | D8: =IFERROR(VLOOKUP($H$5,Ledger!C8:K8,5,0),"-") -> - | E8: =IFERROR(VLOOKUP($H$5,Ledger!C8:K8,6,0),"-") -> - | F8: =PRODUCT(D8:E8) -> 0 | G8: =IFERROR(VLOOKUP($H$5,Ledger!C8:K8,9,0),"-") -> - | H8: =IFERROR((F8-G8),"-") -> - | J8: =IFERROR(VLOOKUP($Q$5,Ledger!C8:K8,2,0),"-") -> - | K8: =IFERROR(VLOOKUP($Q$5,Ledger!C8:K8,3,0),"-") -> - | L8: =IFERROR(VLOOKUP($Q$5,Ledger!C8:K8,4,0),"-") -> - | M8: =IFERROR(VLOOKUP($Q$5,Ledger!C8:K8,5,0),"-") -> - | N8: =IFERROR(VLOOKUP($Q$5,Ledger!C8:K8,6,0),"-") -> - | O8: =PRODUCT(M8:N8) -> 0 | P8: =IFERROR(VLOOKUP($Q$5,Ledger!C8:K8,9,0),"-") -> - | Q8: =IFERROR((O8-P8),"-") -> - | S8: =IFERROR(VLOOKUP($Z$5,Ledger!C8:K8,2,0),"-") -> - | T8: =IFERROR(VLOOKUP($Z$5,Ledger!C8:K8,3,0),"-") -> - | U8: =IFERROR(VLOOKUP($Z$5,Ledger!C8:K8,4,0),"-") -> - | V8: =IFERROR(VLOOKUP($Z$5,Ledger!C8:K8,5,0),"-") -> - | W8: =IFERROR(VLOOKUP($Z$5,Ledger!C8:K8,6,0),"-") -> - | X8: =PRODUCT(V8:W8) -> 0 | Y8: =IFERROR(VLOOKUP($Z$5,Ledger!C8:K8,9,0),"-") -> - | Z8: =IFERROR((X8-Y8),"-") -> - | AB8: =IFERROR(VLOOKUP($AI$5,Ledger!C8:K8,2,0),"-") -> - | AC8: =IFERROR(VLOOKUP($AI$5,Ledger!C8:K8,3,0),"-") -> - | AD8: =IFERROR(VLOOKUP($AI$5,Ledger!C8:K8,4,0),"-") -> - | AE8: =IFERROR(VLOOKUP($AI$5,Ledger!C8:K8,5,0),"-") -> - | AF8: =IFERROR(VLOOKUP($AI$5,Ledger!C8:K8,6,0),"-") -> - | AG8: =PRODUCT(AE8:AF8) -> 0 | AH8: =IFERROR(VLOOKUP($AI$5,Ledger!C8:K8,9,0),"-") -> - | AI8: =IFERROR((AG8-AH8),"-") -> - | AK8: =IFERROR(VLOOKUP($AR$5,Ledger!C8:K8,2,0),"-") -> - | AL8: =IFERROR(VLOOKUP($AR$5,Ledger!C8:K8,3,0),"-") -> - | AM8: =IFERROR(VLOOKUP($AR$5,Ledger!C8:K8,4,0),"-") -> - | AN8: =IFERROR(VLOOKUP($AR$5,Ledger!C8:K8,5,0),"-") -> - | AO8: =IFERROR(VLOOKUP($AR$5,Ledger!C8:K8,6,0),"-") -> - | AP8: =PRODUCT(AN8:AO8) -> 0 | AQ8: =IFERROR(VLOOKUP($AR$5,Ledger!C8:K8,9,0),"-") -> - | AR8: =IFERROR((AP8-AQ8),"-") -> - | AT8: =IFERROR(VLOOKUP($BA$5,Ledger!C8:K8,2,0),"-") -> - | AU8: =IFERROR(VLOOKUP($BA$5,Ledger!C8:K8,3,0),"-") -> - | AV8: =IFERROR(VLOOKUP($BA$5,Ledger!C8:K8,4,0),"-") -> - | AW8: =IFERROR(VLOOKUP($BA$5,Ledger!C8:K8,5,0),"-") -> - | AX8: =IFERROR(VLOOKUP($BA$5,Ledger!C8:K8,6,0),"-") -> - | AY8: =PRODUCT(AW8:AX8) -> 0 | AZ8: =IFERROR(VLOOKUP($BA$5,Ledger!C8:K8,9,0),"-") -> - | BA8: =IFERROR((AY8-AZ8),"-") -> - | BC8: =IFERROR(VLOOKUP($BJ$5,Ledger!C8:K8,2,0),"-") -> - | BD8: =IFERROR(VLOOKUP($BJ$5,Ledger!C8:K8,3,0),"-") -> - | BE8: =IFERROR(VLOOKUP($BJ$5,Ledger!C8:K8,4,0),"-") -> - | BF8: =IFERROR(VLOOKUP($BJ$5,Ledger!C8:K8,5,0),"-") -> - | BG8: =IFERROR(VLOOKUP($BJ$5,Ledger!C8:K8,6,0),"-") -> - | BH8: =PRODUCT(BF8:BG8) -> 0 | BI8: =IFERROR(VLOOKUP($BJ$5,Ledger!C8:K8,9,0),"-") -> - | BJ8: =IFERROR((BH8-BI8),"-") -> -
A9: =IFERROR(VLOOKUP($H$5,Ledger!C9:K9,2,0),"-") -> - | B9: =IFERROR(VLOOKUP($H$5,Ledger!C9:K9,3,0),"-") -> - | C9: =IFERROR(VLOOKUP($H$5,Ledger!C9:K9,4,0),"-") -> - | D9: =IFERROR(VLOOKUP($H$5,Ledger!C9:K9,5,0),"-") -> - | E9: =IFERROR(VLOOKUP($H$5,Ledger!C9:K9,6,0),"-") -> - | F9: =PRODUCT(D9:E9) -> 0 | G9: =IFERROR(VLOOKUP($H$5,Ledger!C9:K9,9,0),"-") -> - | H9: =IFERROR((F9-G9),"-") -> - | J9: =IFERROR(VLOOKUP($Q$5,Ledger!C9:K9,2,0),"-") -> - | K9: =IFERROR(VLOOKUP($Q$5,Ledger!C9:K9,3,0),"-") -> - | L9: =IFERROR(VLOOKUP($Q$5,Ledger!C9:K9,4,0),"-") -> - | M9: =IFERROR(VLOOKUP($Q$5,Ledger!C9:K9,5,0),"-") -> - | N9: =IFERROR(VLOOKUP($Q$5,Ledger!C9:K9,6,0),"-") -> - | O9: =PRODUCT(M9:N9) -> 0 | P9: =IFERROR(VLOOKUP($Q$5,Ledger!C9:K9,9,0),"-") -> - | Q9: =IFERROR((O9-P9),"-") -> - | S9: =IFERROR(VLOOKUP($Z$5,Ledger!C9:K9,2,0),"-") -> - | T9: =IFERROR(VLOOKUP($Z$5,Ledger!C9:K9,3,0),"-") -> - | U9: =IFERROR(VLOOKUP($Z$5,Ledger!C9:K9,4,0),"-") -> - | V9: =IFERROR(VLOOKUP($Z$5,Ledger!C9:K9,5,0),"-") -> - | W9: =IFERROR(VLOOKUP($Z$5,Ledger!C9:K9,6,0),"-") -> - | X9: =PRODUCT(V9:W9) -> 0 | Y9: =IFERROR(VLOOKUP($Z$5,Ledger!C9:K9,9,0),"-") -> - | Z9: =IFERROR((X9-Y9),"-") -> - | AB9: =IFERROR(VLOOKUP($AI$5,Ledger!C9:K9,2,0),"-") -> - | AC9: =IFERROR(VLOOKUP($AI$5,Ledger!C9:K9,3,0),"-") -> - | AD9: =IFERROR(VLOOKUP($AI$5,Ledger!C9:K9,4,0),"-") -> - | AE9: =IFERROR(VLOOKUP($AI$5,Ledger!C9:K9,5,0),"-") -> - | AF9: =IFERROR(VLOOKUP($AI$5,Ledger!C9:K9,6,0),"-") -> - | AG9: =PRODUCT(AE9:AF9) -> 0 | AH9: =IFERROR(VLOOKUP($AI$5,Ledger!C9:K9,9,0),"-") -> - | AI9: =IFERROR((AG9-AH9),"-") -> - | AK9: =IFERROR(VLOOKUP($AR$5,Ledger!C9:K9,2,0),"-") -> - | AL9: =IFERROR(VLOOKUP($AR$5,Ledger!C9:K9,3,0),"-") -> - | AM9: =IFERROR(VLOOKUP($AR$5,Ledger!C9:K9,4,0),"-") -> - | AN9: =IFERROR(VLOOKUP($AR$5,Ledger!C9:K9,5,0),"-") -> - | AO9: =IFERROR(VLOOKUP($AR$5,Ledger!C9:K9,6,0),"-") -> - | AP9: =PRODUCT(AN9:AO9) -> 0 | AQ9: =IFERROR(VLOOKUP($AR$5,Ledger!C9:K9,9,0),"-") -> - | AR9: =IFERROR((AP9-AQ9),"-") -> - | AT9: =IFERROR(VLOOKUP($BA$5,Ledger!C9:K9,2,0),"-") -> - | AU9: =IFERROR(VLOOKUP($BA$5,Ledger!C9:K9,3,0),"-") -> - | AV9: =IFERROR(VLOOKUP($BA$5,Ledger!C9:K9,4,0),"-") -> - | AW9: =IFERROR(VLOOKUP($BA$5,Ledger!C9:K9,5,0),"-") -> - | AX9: =IFERROR(VLOOKUP($BA$5,Ledger!C9:K9,6,0),"-") -> - | AY9: =PRODUCT(AW9:AX9) -> 0 | AZ9: =IFERROR(VLOOKUP($BA$5,Ledger!C9:K9,9,0),"-") -> - | BA9: =IFERROR((AY9-AZ9),"-") -> - | BC9: =IFERROR(VLOOKUP($BJ$5,Ledger!C9:K9,2,0),"-") -> - | BD9: =IFERROR(VLOOKUP($BJ$5,Ledger!C9:K9,3,0),"-") -> - | BE9: =IFERROR(VLOOKUP($BJ$5,Ledger!C9:K9,4,0),"-") -> - | BF9: =IFERROR(VLOOKUP($BJ$5,Ledger!C9:K9,5,0),"-") -> - | BG9: =IFERROR(VLOOKUP($BJ$5,Ledger!C9:K9,6,0),"-") -> - | BH9: =PRODUCT(BF9:BG9) -> 0 | BI9: =IFERROR(VLOOKUP($BJ$5,Ledger!C9:K9,9,0),"-") -> - | BJ9: =IFERROR((BH9-BI9),"-") -> -
A10: =IFERROR(VLOOKUP($H$5,Ledger!C10:K10,2,0),"-") -> - | B10: =IFERROR(VLOOKUP($H$5,Ledger!C10:K10,3,0),"-") -> - | C10: =IFERROR(VLOOKUP($H$5,Ledger!C10:K10,4,0),"-") -> - | D10: =IFERROR(VLOOKUP($H$5,Ledger!C10:K10,5,0),"-") -> - | E10: =IFERROR(VLOOKUP($H$5,Ledger!C10:K10,6,0),"-") -> - | F10: =PRODUCT(D10:E10) -> 0 | G10: =IFERROR(VLOOKUP($H$5,Ledger!C10:K10,9,0),"-") -> - | H10: =IFERROR((F10-G10),"-") -> - | J10: =IFERROR(VLOOKUP($Q$5,Ledger!C10:K10,2,0),"-") -> - | K10: =IFERROR(VLOOKUP($Q$5,Ledger!C10:K10,3,0),"-") -> - | L10: =IFERROR(VLOOKUP($Q$5,Ledger!C10:K10,4,0),"-") -> - | M10: =IFERROR(VLOOKUP($Q$5,Ledger!C10:K10,5,0),"-") -> - | N10: =IFERROR(VLOOKUP($Q$5,Ledger!C10:K10,6,0),"-") -> - | O10: =PRODUCT(M10:N10) -> 0 | P10: =IFERROR(VLOOKUP($Q$5,Ledger!C10:K10,9,0),"-") -> - | Q10: =IFERROR((O10-P10),"-") -> - | S10: =IFERROR(VLOOKUP($Z$5,Ledger!C10:K10,2,0),"-") -> - | T10: =IFERROR(VLOOKUP($Z$5,Ledger!C10:K10,3,0),"-") -> - | U10: =IFERROR(VLOOKUP($Z$5,Ledger!C10:K10,4,0),"-") -> - | V10: =IFERROR(VLOOKUP($Z$5,Ledger!C10:K10,5,0),"-") -> - | W10: =IFERROR(VLOOKUP($Z$5,Ledger!C10:K10,6,0),"-") -> - | X10: =PRODUCT(V10:W10) -> 0 | Y10: =IFERROR(VLOOKUP($Z$5,Ledger!C10:K10,9,0),"-") -> - | Z10: =IFERROR((X10-Y10),"-") -> - | AB10: =IFERROR(VLOOKUP($AI$5,Ledger!C10:K10,2,0),"-") -> - | AC10: =IFERROR(VLOOKUP($AI$5,Ledger!C10:K10,3,0),"-") -> - | AD10: =IFERROR(VLOOKUP($AI$5,Ledger!C10:K10,4,0),"-") -> - | AE10: =IFERROR(VLOOKUP($AI$5,Ledger!C10:K10,5,0),"-") -> - | AF10: =IFERROR(VLOOKUP($AI$5,Ledger!C10:K10,6,0),"-") -> - | AG10: =PRODUCT(AE10:AF10) -> 0 | AH10: =IFERROR(VLOOKUP($AI$5,Ledger!C10:K10,9,0),"-") -> - | AI10: =IFERROR((AG10-AH10),"-") -> - | AK10: =IFERROR(VLOOKUP($AR$5,Ledger!C10:K10,2,0),"-") -> - | AL10: =IFERROR(VLOOKUP($AR$5,Ledger!C10:K10,3,0),"-") -> - | AM10: =IFERROR(VLOOKUP($AR$5,Ledger!C10:K10,4,0),"-") -> - | AN10: =IFERROR(VLOOKUP($AR$5,Ledger!C10:K10,5,0),"-") -> - | AO10: =IFERROR(VLOOKUP($AR$5,Ledger!C10:K10,6,0),"-") -> - | AP10: =PRODUCT(AN10:AO10) -> 0 | AQ10: =IFERROR(VLOOKUP($AR$5,Ledger!C10:K10,9,0),"-") -> - | AR10: =IFERROR((AP10-AQ10),"-") -> - | AT10: =IFERROR(VLOOKUP($BA$5,Ledger!C10:K10,2,0),"-") -> - | AU10: =IFERROR(VLOOKUP($BA$5,Ledger!C10:K10,3,0),"-") -> - | AV10: =IFERROR(VLOOKUP($BA$5,Ledger!C10:K10,4,0),"-") -> - | AW10: =IFERROR(VLOOKUP($BA$5,Ledger!C10:K10,5,0),"-") -> - | AX10: =IFERROR(VLOOKUP($BA$5,Ledger!C10:K10,6,0),"-") -> - | AY10: =PRODUCT(AW10:AX10) -> 0 | AZ10: =IFERROR(VLOOKUP($BA$5,Ledger!C10:K10,9,0),"-") -> - | BA10: =IFERROR((AY10-AZ10),"-") -> - | BC10: =IFERROR(VLOOKUP($BJ$5,Ledger!C10:K10,2,0),"-") -> - | BD10: =IFERROR(VLOOKUP($BJ$5,Ledger!C10:K10,3,0),"-") -> - | BE10: =IFERROR(VLOOKUP($BJ$5,Ledger!C10:K10,4,0),"-") -> - | BF10: =IFERROR(VLOOKUP($BJ$5,Ledger!C10:K10,5,0),"-") -> - | BG10: =IFERROR(VLOOKUP($BJ$5,Ledger!C10:K10,6,0),"-") -> - | BH10: =PRODUCT(BF10:BG10) -> 0 | BI10: =IFERROR(VLOOKUP($BJ$5,Ledger!C10:K10,9,0),"-") -> - | BJ10: =IFERROR((BH10-BI10),"-") -> -
A11: =IFERROR(VLOOKUP($H$5,Ledger!C11:K11,2,0),"-") -> - | B11: =IFERROR(VLOOKUP($H$5,Ledger!C11:K11,3,0),"-") -> - | C11: =IFERROR(VLOOKUP($H$5,Ledger!C11:K11,4,0),"-") -> - | D11: =IFERROR(VLOOKUP($H$5,Ledger!C11:K11,5,0),"-") -> - | E11: =IFERROR(VLOOKUP($H$5,Ledger!C11:K11,6,0),"-") -> - | F11: =PRODUCT(D11:E11) -> 0 | G11: =IFERROR(VLOOKUP($H$5,Ledger!C11:K11,9,0),"-") -> - | H11: =IFERROR((F11-G11),"-") -> - | J11: =IFERROR(VLOOKUP($Q$5,Ledger!C11:K11,2,0),"-") -> - | K11: =IFERROR(VLOOKUP($Q$5,Ledger!C11:K11,3,0),"-") -> - | L11: =IFERROR(VLOOKUP($Q$5,Ledger!C11:K11,4,0),"-") -> - | M11: =IFERROR(VLOOKUP($Q$5,Ledger!C11:K11,5,0),"-") -> - | N11: =IFERROR(VLOOKUP($Q$5,Ledger!C11:K11,6,0),"-") -> - | O11: =PRODUCT(M11:N11) -> 0 | P11: =IFERROR(VLOOKUP($Q$5,Ledger!C11:K11,9,0),"-") -> - | Q11: =IFERROR((O11-P11),"-") -> - | S11: =IFERROR(VLOOKUP($Z$5,Ledger!C11:K11,2,0),"-") -> - | T11: =IFERROR(VLOOKUP($Z$5,Ledger!C11:K11,3,0),"-") -> - | U11: =IFERROR(VLOOKUP($Z$5,Ledger!C11:K11,4,0),"-") -> - | V11: =IFERROR(VLOOKUP($Z$5,Ledger!C11:K11,5,0),"-") -> - | W11: =IFERROR(VLOOKUP($Z$5,Ledger!C11:K11,6,0),"-") -> - | X11: =PRODUCT(V11:W11) -> 0 | Y11: =IFERROR(VLOOKUP($Z$5,Ledger!C11:K11,9,0),"-") -> - | Z11: =IFERROR((X11-Y11),"-") -> - | AB11: =IFERROR(VLOOKUP($AI$5,Ledger!C11:K11,2,0),"-") -> - | AC11: =IFERROR(VLOOKUP($AI$5,Ledger!C11:K11,3,0),"-") -> - | AD11: =IFERROR(VLOOKUP($AI$5,Ledger!C11:K11,4,0),"-") -> - | AE11: =IFERROR(VLOOKUP($AI$5,Ledger!C11:K11,5,0),"-") -> - | AF11: =IFERROR(VLOOKUP($AI$5,Ledger!C11:K11,6,0),"-") -> - | AG11: =PRODUCT(AE11:AF11) -> 0 | AH11: =IFERROR(VLOOKUP($AI$5,Ledger!C11:K11,9,0),"-") -> - | AI11: =IFERROR((AG11-AH11),"-") -> - | AK11: =IFERROR(VLOOKUP($AR$5,Ledger!C11:K11,2,0),"-") -> - | AL11: =IFERROR(VLOOKUP($AR$5,Ledger!C11:K11,3,0),"-") -> - | AM11: =IFERROR(VLOOKUP($AR$5,Ledger!C11:K11,4,0),"-") -> - | AN11: =IFERROR(VLOOKUP($AR$5,Ledger!C11:K11,5,0),"-") -> - | AO11: =IFERROR(VLOOKUP($AR$5,Ledger!C11:K11,6,0),"-") -> - | AP11: =PRODUCT(AN11:AO11) -> 0 | AQ11: =IFERROR(VLOOKUP($AR$5,Ledger!C11:K11,9,0),"-") -> - | AR11: =IFERROR((AP11-AQ11),"-") -> - | AT11: =IFERROR(VLOOKUP($BA$5,Ledger!C11:K11,2,0),"-") -> - | AU11: =IFERROR(VLOOKUP($BA$5,Ledger!C11:K11,3,0),"-") -> - | AV11: =IFERROR(VLOOKUP($BA$5,Ledger!C11:K11,4,0),"-") -> - | AW11: =IFERROR(VLOOKUP($BA$5,Ledger!C11:K11,5,0),"-") -> - | AX11: =IFERROR(VLOOKUP($BA$5,Ledger!C11:K11,6,0),"-") -> - | AY11: =PRODUCT(AW11:AX11) -> 0 | AZ11: =IFERROR(VLOOKUP($BA$5,Ledger!C11:K11,9,0),"-") -> - | BA11: =IFERROR((AY11-AZ11),"-") -> - | BC11: =IFERROR(VLOOKUP($BJ$5,Ledger!C11:K11,2,0),"-") -> - | BD11: =IFERROR(VLOOKUP($BJ$5,Ledger!C11:K11,3,0),"-") -> - | BE11: =IFERROR(VLOOKUP($BJ$5,Ledger!C11:K11,4,0),"-") -> - | BF11: =IFERROR(VLOOKUP($BJ$5,Ledger!C11:K11,5,0),"-") -> - | BG11: =IFERROR(VLOOKUP($BJ$5,Ledger!C11:K11,6,0),"-") -> - | BH11: =PRODUCT(BF11:BG11) -> 0 | BI11: =IFERROR(VLOOKUP($BJ$5,Ledger!C11:K11,9,0),"-") -> - | BJ11: =IFERROR((BH11-BI11),"-") -> -
A12: =IFERROR(VLOOKUP($H$5,Ledger!C12:K12,2,0),"-") -> - | B12: =IFERROR(VLOOKUP($H$5,Ledger!C12:K12,3,0),"-") -> - | C12: =IFERROR(VLOOKUP($H$5,Ledger!C12:K12,4,0),"-") -> - | D12: =IFERROR(VLOOKUP($H$5,Ledger!C12:K12,5,0),"-") -> - | E12: =IFERROR(VLOOKUP($H$5,Ledger!C12:K12,6,0),"-") -> - | F12: =PRODUCT(D12:E12) -> 0 | G12: =IFERROR(VLOOKUP($H$5,Ledger!C12:K12,9,0),"-") -> - | H12: =IFERROR((F12-G12),"-") -> - | J12: =IFERROR(VLOOKUP($Q$5,Ledger!C12:K12,2,0),"-") -> - | K12: =IFERROR(VLOOKUP($Q$5,Ledger!C12:K12,3,0),"-") -> - | L12: =IFERROR(VLOOKUP($Q$5,Ledger!C12:K12,4,0),"-") -> - | M12: =IFERROR(VLOOKUP($Q$5,Ledger!C12:K12,5,0),"-") -> - | N12: =IFERROR(VLOOKUP($Q$5,Ledger!C12:K12,6,0),"-") -> - | O12: =PRODUCT(M12:N12) -> 0 | P12: =IFERROR(VLOOKUP($Q$5,Ledger!C12:K12,9,0),"-") -> - | Q12: =IFERROR((O12-P12),"-") -> - | S12: =IFERROR(VLOOKUP($Z$5,Ledger!C12:K12,2,0),"-") -> - | T12: =IFERROR(VLOOKUP($Z$5,Ledger!C12:K12,3,0),"-") -> - | U12: =IFERROR(VLOOKUP($Z$5,Ledger!C12:K12,4,0),"-") -> - | V12: =IFERROR(VLOOKUP($Z$5,Ledger!C12:K12,5,0),"-") -> - | W12: =IFERROR(VLOOKUP($Z$5,Ledger!C12:K12,6,0),"-") -> - | X12: =PRODUCT(V12:W12) -> 0 | Y12: =IFERROR(VLOOKUP($Z$5,Ledger!C12:K12,9,0),"-") -> - | Z12: =IFERROR((X12-Y12),"-") -> - | AB12: =IFERROR(VLOOKUP($AI$5,Ledger!C12:K12,2,0),"-") -> - | AC12: =IFERROR(VLOOKUP($AI$5,Ledger!C12:K12,3,0),"-") -> - | AD12: =IFERROR(VLOOKUP($AI$5,Ledger!C12:K12,4,0),"-") -> - | AE12: =IFERROR(VLOOKUP($AI$5,Ledger!C12:K12,5,0),"-") -> - | AF12: =IFERROR(VLOOKUP($AI$5,Ledger!C12:K12,6,0),"-") -> - | AG12: =PRODUCT(AE12:AF12) -> 0 | AH12: =IFERROR(VLOOKUP($AI$5,Ledger!C12:K12,9,0),"-") -> - | AI12: =IFERROR((AG12-AH12),"-") -> - | AK12: =IFERROR(VLOOKUP($AR$5,Ledger!C12:K12,2,0),"-") -> - | AL12: =IFERROR(VLOOKUP($AR$5,Ledger!C12:K12,3,0),"-") -> - | AM12: =IFERROR(VLOOKUP($AR$5,Ledger!C12:K12,4,0),"-") -> - | AN12: =IFERROR(VLOOKUP($AR$5,Ledger!C12:K12,5,0),"-") -> - | AO12: =IFERROR(VLOOKUP($AR$5,Ledger!C12:K12,6,0),"-") -> - | AP12: =PRODUCT(AN12:AO12) -> 0 | AQ12: =IFERROR(VLOOKUP($AR$5,Ledger!C12:K12,9,0),"-") -> - | AR12: =IFERROR((AP12-AQ12),"-") -> - | AT12: =IFERROR(VLOOKUP($BA$5,Ledger!C12:K12,2,0),"-") -> - | AU12: =IFERROR(VLOOKUP($BA$5,Ledger!C12:K12,3,0),"-") -> - | AV12: =IFERROR(VLOOKUP($BA$5,Ledger!C12:K12,4,0),"-") -> - | AW12: =IFERROR(VLOOKUP($BA$5,Ledger!C12:K12,5,0),"-") -> - | AX12: =IFERROR(VLOOKUP($BA$5,Ledger!C12:K12,6,0),"-") -> - | AY12: =PRODUCT(AW12:AX12) -> 0 | AZ12: =IFERROR(VLOOKUP($BA$5,Ledger!C12:K12,9,0),"-") -> - | BA12: =IFERROR((AY12-AZ12),"-") -> - | BC12: =IFERROR(VLOOKUP($BJ$5,Ledger!C12:K12,2,0),"-") -> - | BD12: =IFERROR(VLOOKUP($BJ$5,Ledger!C12:K12,3,0),"-") -> - | BE12: =IFERROR(VLOOKUP($BJ$5,Ledger!C12:K12,4,0),"-") -> - | BF12: =IFERROR(VLOOKUP($BJ$5,Ledger!C12:K12,5,0),"-") -> - | BG12: =IFERROR(VLOOKUP($BJ$5,Ledger!C12:K12,6,0),"-") -> - | BH12: =PRODUCT(BF12:BG12) -> 0 | BI12: =IFERROR(VLOOKUP($BJ$5,Ledger!C12:K12,9,0),"-") -> - | BJ12: =IFERROR((BH12-BI12),"-") -> -
A13: =IFERROR(VLOOKUP($H$5,Ledger!C13:K13,2,0),"-") -> - | B13: =IFERROR(VLOOKUP($H$5,Ledger!C13:K13,3,0),"-") -> - | C13: =IFERROR(VLOOKUP($H$5,Ledger!C13:K13,4,0),"-") -> - | D13: =IFERROR(VLOOKUP($H$5,Ledger!C13:K13,5,0),"-") -> - | E13: =IFERROR(VLOOKUP($H$5,Ledger!C13:K13,6,0),"-") -> - | F13: =PRODUCT(D13:E13) -> 0 | G13: =IFERROR(VLOOKUP($H$5,Ledger!C13:K13,9,0),"-") -> - | H13: =IFERROR((F13-G13),"-") -> - | J13: =IFERROR(VLOOKUP($Q$5,Ledger!C13:K13,2,0),"-") -> - | K13: =IFERROR(VLOOKUP($Q$5,Ledger!C13:K13,3,0),"-") -> - | L13: =IFERROR(VLOOKUP($Q$5,Ledger!C13:K13,4,0),"-") -> - | M13: =IFERROR(VLOOKUP($Q$5,Ledger!C13:K13,5,0),"-") -> - | N13: =IFERROR(VLOOKUP($Q$5,Ledger!C13:K13,6,0),"-") -> - | O13: =PRODUCT(M13:N13) -> 0 | P13: =IFERROR(VLOOKUP($Q$5,Ledger!C13:K13,9,0),"-") -> - | Q13: =IFERROR((O13-P13),"-") -> - | S13: =IFERROR(VLOOKUP($Z$5,Ledger!C13:K13,2,0),"-") -> - | T13: =IFERROR(VLOOKUP($Z$5,Ledger!C13:K13,3,0),"-") -> - | U13: =IFERROR(VLOOKUP($Z$5,Ledger!C13:K13,4,0),"-") -> - | V13: =IFERROR(VLOOKUP($Z$5,Ledger!C13:K13,5,0),"-") -> - | W13: =IFERROR(VLOOKUP($Z$5,Ledger!C13:K13,6,0),"-") -> - | X13: =PRODUCT(V13:W13) -> 0 | Y13: =IFERROR(VLOOKUP($Z$5,Ledger!C13:K13,9,0),"-") -> - | Z13: =IFERROR((X13-Y13),"-") -> - | AB13: =IFERROR(VLOOKUP($AI$5,Ledger!C13:K13,2,0),"-") -> - | AC13: =IFERROR(VLOOKUP($AI$5,Ledger!C13:K13,3,0),"-") -> - | AD13: =IFERROR(VLOOKUP($AI$5,Ledger!C13:K13,4,0),"-") -> - | AE13: =IFERROR(VLOOKUP($AI$5,Ledger!C13:K13,5,0),"-") -> - | AF13: =IFERROR(VLOOKUP($AI$5,Ledger!C13:K13,6,0),"-") -> - | AG13: =PRODUCT(AE13:AF13) -> 0 | AH13: =IFERROR(VLOOKUP($AI$5,Ledger!C13:K13,9,0),"-") -> - | AI13: =IFERROR((AG13-AH13),"-") -> - | AK13: =IFERROR(VLOOKUP($AR$5,Ledger!C13:K13,2,0),"-") -> - | AL13: =IFERROR(VLOOKUP($AR$5,Ledger!C13:K13,3,0),"-") -> - | AM13: =IFERROR(VLOOKUP($AR$5,Ledger!C13:K13,4,0),"-") -> - | AN13: =IFERROR(VLOOKUP($AR$5,Ledger!C13:K13,5,0),"-") -> - | AO13: =IFERROR(VLOOKUP($AR$5,Ledger!C13:K13,6,0),"-") -> - | AP13: =PRODUCT(AN13:AO13) -> 0 | AQ13: =IFERROR(VLOOKUP($AR$5,Ledger!C13:K13,9,0),"-") -> - | AR13: =IFERROR((AP13-AQ13),"-") -> - | AT13: =IFERROR(VLOOKUP($BA$5,Ledger!C13:K13,2,0),"-") -> - | AU13: =IFERROR(VLOOKUP($BA$5,Ledger!C13:K13,3,0),"-") -> - | AV13: =IFERROR(VLOOKUP($BA$5,Ledger!C13:K13,4,0),"-") -> - | AW13: =IFERROR(VLOOKUP($BA$5,Ledger!C13:K13,5,0),"-") -> - | AX13: =IFERROR(VLOOKUP($BA$5,Ledger!C13:K13,6,0),"-") -> - | AY13: =PRODUCT(AW13:AX13) -> 0 | AZ13: =IFERROR(VLOOKUP($BA$5,Ledger!C13:K13,9,0),"-") -> - | BA13: =IFERROR((AY13-AZ13),"-") -> - | BC13: =IFERROR(VLOOKUP($BJ$5,Ledger!C13:K13,2,0),"-") -> - | BD13: =IFERROR(VLOOKUP($BJ$5,Ledger!C13:K13,3,0),"-") -> - | BE13: =IFERROR(VLOOKUP($BJ$5,Ledger!C13:K13,4,0),"-") -> - | BF13: =IFERROR(VLOOKUP($BJ$5,Ledger!C13:K13,5,0),"-") -> - | BG13: =IFERROR(VLOOKUP($BJ$5,Ledger!C13:K13,6,0),"-") -> - | BH13: =PRODUCT(BF13:BG13) -> 0 | BI13: =IFERROR(VLOOKUP($BJ$5,Ledger!C13:K13,9,0),"-") -> - | BJ13: =IFERROR((BH13-BI13),"-") -> -
A14: =IFERROR(VLOOKUP($H$5,Ledger!C14:K14,2,0),"-") -> - | B14: =IFERROR(VLOOKUP($H$5,Ledger!C14:K14,3,0),"-") -> - | C14: =IFERROR(VLOOKUP($H$5,Ledger!C14:K14,4,0),"-") -> - | D14: =IFERROR(VLOOKUP($H$5,Ledger!C14:K14,5,0),"-") -> - | E14: =IFERROR(VLOOKUP($H$5,Ledger!C14:K14,6,0),"-") -> - | F14: =PRODUCT(D14:E14) -> 0 | G14: =IFERROR(VLOOKUP($H$5,Ledger!C14:K14,9,0),"-") -> - | H14: =IFERROR((F14-G14),"-") -> - | J14: =IFERROR(VLOOKUP($Q$5,Ledger!C14:K14,2,0),"-") -> - | K14: =IFERROR(VLOOKUP($Q$5,Ledger!C14:K14,3,0),"-") -> - | L14: =IFERROR(VLOOKUP($Q$5,Ledger!C14:K14,4,0),"-") -> - | M14: =IFERROR(VLOOKUP($Q$5,Ledger!C14:K14,5,0),"-") -> - | N14: =IFERROR(VLOOKUP($Q$5,Ledger!C14:K14,6,0),"-") -> - | O14: =PRODUCT(M14:N14) -> 0 | P14: =IFERROR(VLOOKUP($Q$5,Ledger!C14:K14,9,0),"-") -> - | Q14: =IFERROR((O14-P14),"-") -> - | S14: =IFERROR(VLOOKUP($Z$5,Ledger!C14:K14,2,0),"-") -> - | T14: =IFERROR(VLOOKUP($Z$5,Ledger!C14:K14,3,0),"-") -> - | U14: =IFERROR(VLOOKUP($Z$5,Ledger!C14:K14,4,0),"-") -> - | V14: =IFERROR(VLOOKUP($Z$5,Ledger!C14:K14,5,0),"-") -> - | W14: =IFERROR(VLOOKUP($Z$5,Ledger!C14:K14,6,0),"-") -> - | X14: =PRODUCT(V14:W14) -> 0 | Y14: =IFERROR(VLOOKUP($Z$5,Ledger!C14:K14,9,0),"-") -> - | Z14: =IFERROR((X14-Y14),"-") -> - | AB14: =IFERROR(VLOOKUP($AI$5,Ledger!C14:K14,2,0),"-") -> - | AC14: =IFERROR(VLOOKUP($AI$5,Ledger!C14:K14,3,0),"-") -> - | AD14: =IFERROR(VLOOKUP($AI$5,Ledger!C14:K14,4,0),"-") -> - | AE14: =IFERROR(VLOOKUP($AI$5,Ledger!C14:K14,5,0),"-") -> - | AF14: =IFERROR(VLOOKUP($AI$5,Ledger!C14:K14,6,0),"-") -> - | AG14: =PRODUCT(AE14:AF14) -> 0 | AH14: =IFERROR(VLOOKUP($AI$5,Ledger!C14:K14,9,0),"-") -> - | AI14: =IFERROR((AG14-AH14),"-") -> - | AK14: =IFERROR(VLOOKUP($AR$5,Ledger!C14:K14,2,0),"-") -> - | AL14: =IFERROR(VLOOKUP($AR$5,Ledger!C14:K14,3,0),"-") -> - | AM14: =IFERROR(VLOOKUP($AR$5,Ledger!C14:K14,4,0),"-") -> - | AN14: =IFERROR(VLOOKUP($AR$5,Ledger!C14:K14,5,0),"-") -> - | AO14: =IFERROR(VLOOKUP($AR$5,Ledger!C14:K14,6,0),"-") -> - | AP14: =PRODUCT(AN14:AO14) -> 0 | AQ14: =IFERROR(VLOOKUP($AR$5,Ledger!C14:K14,9,0),"-") -> - | AR14: =IFERROR((AP14-AQ14),"-") -> - | AT14: =IFERROR(VLOOKUP($BA$5,Ledger!C14:K14,2,0),"-") -> - | AU14: =IFERROR(VLOOKUP($BA$5,Ledger!C14:K14,3,0),"-") -> - | AV14: =IFERROR(VLOOKUP($BA$5,Ledger!C14:K14,4,0),"-") -> - | AW14: =IFERROR(VLOOKUP($BA$5,Ledger!C14:K14,5,0),"-") -> - | AX14: =IFERROR(VLOOKUP($BA$5,Ledger!C14:K14,6,0),"-") -> - | AY14: =PRODUCT(AW14:AX14) -> 0 | AZ14: =IFERROR(VLOOKUP($BA$5,Ledger!C14:K14,9,0),"-") -> - | BA14: =IFERROR((AY14-AZ14),"-") -> - | BC14: =IFERROR(VLOOKUP($BJ$5,Ledger!C14:K14,2,0),"-") -> - | BD14: =IFERROR(VLOOKUP($BJ$5,Ledger!C14:K14,3,0),"-") -> - | BE14: =IFERROR(VLOOKUP($BJ$5,Ledger!C14:K14,4,0),"-") -> - | BF14: =IFERROR(VLOOKUP($BJ$5,Ledger!C14:K14,5,0),"-") -> - | BG14: =IFERROR(VLOOKUP($BJ$5,Ledger!C14:K14,6,0),"-") -> - | BH14: =PRODUCT(BF14:BG14) -> 0 | BI14: =IFERROR(VLOOKUP($BJ$5,Ledger!C14:K14,9,0),"-") -> - | BJ14: =IFERROR((BH14-BI14),"-") -> -
